BEGIN:VCALENDAR
VERSION:2.0
PRODID:-//P&auml;rnu Eliisabeti kogudus - ECPv6.15.20//NONSGML v1.0//EN
CALSCALE:GREGORIAN
METHOD:PUBLISH
X-WR-CALNAME:P&auml;rnu Eliisabeti kogudus
X-ORIGINAL-URL:https://eliisabet.ee
X-WR-CALDESC:Events for P&auml;rnu Eliisabeti kogudus
REFRESH-INTERVAL;VALUE=DURATION:PT1H
X-Robots-Tag:noindex
X-PUBLISHED-TTL:PT1H
BEGIN:VTIMEZONE
TZID:Europe/Tallinn
BEGIN:DAYLIGHT
TZOFFSETFROM:+0200
TZOFFSETTO:+0300
TZNAME:EEST
DTSTART:20240331T010000
END:DAYLIGHT
BEGIN:STANDARD
TZOFFSETFROM:+0300
TZOFFSETTO:+0200
TZNAME:EET
DTSTART:20241027T010000
END:STANDARD
BEGIN:DAYLIGHT
TZOFFSETFROM:+0200
TZOFFSETTO:+0300
TZNAME:EEST
DTSTART:20250330T010000
END:DAYLIGHT
BEGIN:STANDARD
TZOFFSETFROM:+0300
TZOFFSETTO:+0200
TZNAME:EET
DTSTART:20251026T010000
END:STANDARD
BEGIN:DAYLIGHT
TZOFFSETFROM:+0200
TZOFFSETTO:+0300
TZNAME:EEST
DTSTART:20260329T010000
END:DAYLIGHT
BEGIN:STANDARD
TZOFFSETFROM:+0300
TZOFFSETTO:+0200
TZNAME:EET
DTSTART:20261025T010000
END:STANDARD
END:VTIMEZONE
BEGIN:VEVENT
DTSTART;TZID=Europe/Tallinn:20250308T160000
DTEND;TZID=Europe/Tallinn:20250308T170000
DTSTAMP:20260421T131809
CREATED:20250307T153504Z
LAST-MODIFIED:20250307T153529Z
UID:745-1741449600-1741453200@eliisabet.ee
SUMMARY:Kontsert: Kai Kallastu ja Andrus Kallastu
DESCRIPTION:Kai Kallastu (sopran) ja Andrus Kallastu (orel). Kavas: Gorecki\, Kallastu\, Tavener. \nÜksikpääse 20 eurot müügil pool tundi enne kontserdi algust kohapeal (makse sularahas)\nja 15 eurot eelmuugis Piletilevis www.piletilevi.ee \nPerepääse 25 eurot (üks täiskasvanu ja alla 18-aastased lapsed) müügil pool tundi enne\nkontserdi algust kohapeal (makse sularahas) ja 20 eurot eelmüügis Piletilevis www.piletilevi.ee \nAbonementpääse 60 eurot annab iguse külastada sarja kiki kevadhooaja 2025 kontserte \nKontserdisarjaga liitub publikukoolitusprogramm õpilastele\, info ooper@parnu.ee \nVaata ka: ooper.parnu.ee
URL:https://eliisabet.ee/sundmus/kontsert-kai-kallastu-ja-andrus-kallastu/
LOCATION:Pärnu Eliisabeti kirik\, Nikolai 22\, Pärnu\, Estonia
CATEGORIES:kontsert
END:VEVENT
END:VCALENDAR