BEGIN:VCALENDAR
VERSION:2.0
PRODID:-//P&auml;rnu Eliisabeti kogudus - ECPv6.15.20//NONSGML v1.0//EN
CALSCALE:GREGORIAN
METHOD:PUBLISH
X-WR-CALNAME:P&auml;rnu Eliisabeti kogudus
X-ORIGINAL-URL:https://eliisabet.ee
X-WR-CALDESC:Events for P&auml;rnu Eliisabeti kogudus
REFRESH-INTERVAL;VALUE=DURATION:PT1H
X-Robots-Tag:noindex
X-PUBLISHED-TTL:PT1H
BEGIN:VTIMEZONE
TZID:Europe/Tallinn
BEGIN:DAYLIGHT
TZOFFSETFROM:+0200
TZOFFSETTO:+0300
TZNAME:EEST
DTSTART:20250330T010000
END:DAYLIGHT
BEGIN:STANDARD
TZOFFSETFROM:+0300
TZOFFSETTO:+0200
TZNAME:EET
DTSTART:20251026T010000
END:STANDARD
BEGIN:DAYLIGHT
TZOFFSETFROM:+0200
TZOFFSETTO:+0300
TZNAME:EEST
DTSTART:20260329T010000
END:DAYLIGHT
BEGIN:STANDARD
TZOFFSETFROM:+0300
TZOFFSETTO:+0200
TZNAME:EET
DTSTART:20261025T010000
END:STANDARD
BEGIN:DAYLIGHT
TZOFFSETFROM:+0200
TZOFFSETTO:+0300
TZNAME:EEST
DTSTART:20270328T010000
END:DAYLIGHT
BEGIN:STANDARD
TZOFFSETFROM:+0300
TZOFFSETTO:+0200
TZNAME:EET
DTSTART:20271031T010000
END:STANDARD
END:VTIMEZONE
BEGIN:VEVENT
DTSTART;TZID=Europe/Tallinn:20260426T100000
DTEND;TZID=Europe/Tallinn:20260426T113000
DTSTAMP:20260426T020028
CREATED:20260326T111418Z
LAST-MODIFIED:20260421T103441Z
UID:2666-1777197600-1777203000@eliisabet.ee
SUMMARY:Ülestõusmisaja 4. pühapäev Jubilate
DESCRIPTION:Jumala rahva koduigatsus – Kui keegi on Kristuses\, siis ta on uus loodu\, vana on möödunud\, vaata\, uus on sündinud! 2Kr 5:17\nKLPR 120  valge \nPs 66:1-9 (v Ps 126)   Js 54:7-10   1Pt 1:3-9 (v 2Kr 4:16-18)   Jh 17:11-17 \nJumal\, kõigi asjade Looja\, nõnda nagu Sa äratad igal kevadel looduse uuele kasvule\, tahad Sa uuendada ka patu ja surma võimusesse langenud maailma. Aita meil leida Sinu Pojas tõeline elu allikas ja üles ärgata osaduseks Sinuga. Seda palume Jeesuse Kristuse\, Sinu Poja\, meie Issanda läbi. \nTeenivad: õp Joel Pulk (jutlus)\, Andres Riivits ja Osvald Nigola. Orelil Aaro Tetsmann.
URL:https://eliisabet.ee/sundmus/ulestousmisaja-4-puhapaev-jubilate/
LOCATION:Pärnu Eliisabeti kirik\, Nikolai 22\, Pärnu\, Estonia
CATEGORIES:jumalateenistused
END:VEVENT
END:VCALENDAR