BEGIN:VCALENDAR
VERSION:2.0
PRODID:-//P&auml;rnu Eliisabeti kogudus - ECPv6.15.20//NONSGML v1.0//EN
CALSCALE:GREGORIAN
METHOD:PUBLISH
X-WR-CALNAME:P&auml;rnu Eliisabeti kogudus
X-ORIGINAL-URL:https://eliisabet.ee
X-WR-CALDESC:Events for P&auml;rnu Eliisabeti kogudus
REFRESH-INTERVAL;VALUE=DURATION:PT1H
X-Robots-Tag:noindex
X-PUBLISHED-TTL:PT1H
BEGIN:VTIMEZONE
TZID:Europe/Tallinn
BEGIN:DAYLIGHT
TZOFFSETFROM:+0200
TZOFFSETTO:+0300
TZNAME:EEST
DTSTART:20240331T010000
END:DAYLIGHT
BEGIN:STANDARD
TZOFFSETFROM:+0300
TZOFFSETTO:+0200
TZNAME:EET
DTSTART:20241027T010000
END:STANDARD
BEGIN:DAYLIGHT
TZOFFSETFROM:+0200
TZOFFSETTO:+0300
TZNAME:EEST
DTSTART:20250330T010000
END:DAYLIGHT
BEGIN:STANDARD
TZOFFSETFROM:+0300
TZOFFSETTO:+0200
TZNAME:EET
DTSTART:20251026T010000
END:STANDARD
BEGIN:DAYLIGHT
TZOFFSETFROM:+0200
TZOFFSETTO:+0300
TZNAME:EEST
DTSTART:20260329T010000
END:DAYLIGHT
BEGIN:STANDARD
TZOFFSETFROM:+0300
TZOFFSETTO:+0200
TZNAME:EET
DTSTART:20261025T010000
END:STANDARD
BEGIN:DAYLIGHT
TZOFFSETFROM:+0200
TZOFFSETTO:+0300
TZNAME:EEST
DTSTART:20270328T010000
END:DAYLIGHT
BEGIN:STANDARD
TZOFFSETFROM:+0300
TZOFFSETTO:+0200
TZNAME:EET
DTSTART:20271031T010000
END:STANDARD
END:VTIMEZONE
BEGIN:VEVENT
DTSTART;TZID=Europe/Tallinn:20251228T130000
DTEND;TZID=Europe/Tallinn:20251228T140000
DTSTAMP:20260420T072716
CREATED:20251219T113848Z
LAST-MODIFIED:20251219T113848Z
UID:2249-1766926800-1766930400@eliisabet.ee
SUMMARY:Jõulukontsert (koorid)
DESCRIPTION:Laulavad: \n\nRahvuslik Segakoor\nSindi Laulukoor\nTori Segakoor\nVokaalansambel Šal-lal-laa\n\nSissepääs tasuta. \nTere tulemast!
URL:https://eliisabet.ee/sundmus/joulukontsert-koorid/
LOCATION:Pärnu Eliisabeti kirik\, Nikolai 22\, Pärnu\, Estonia
CATEGORIES:kontsert
END:VEVENT
BEGIN:VEVENT
DTSTART;TZID=Europe/Tallinn:20251231T160000
DTEND;TZID=Europe/Tallinn:20251231T170000
DTSTAMP:20260420T072716
CREATED:20251018T164710Z
LAST-MODIFIED:20251018T164710Z
UID:1976-1767196800-1767200400@eliisabet.ee
SUMMARY:Vana-aastaõhtu missa
DESCRIPTION:Meie aeg on Issanda kätes – Sinu käes\, Issand\, on kõik mu ajad. Ps 31:16 \n Igavene Jumal\, me täname Sind kõige eest\, mida Sa möödunud aastal oled meile jaganud. Anna andeks meie teadmatult ja teadlikult tehtud eksimused. Luba meid uuesti algusest alata. Jeesuse Kristuse\, Sinu Poja\, meie Issanda läbi.
URL:https://eliisabet.ee/sundmus/vana-aastaohtu-missa-2/
LOCATION:Pärnu Eliisabeti kirik\, Nikolai 22\, Pärnu\, Estonia
CATEGORIES:jumalateenistused
END:VEVENT
BEGIN:VEVENT
DTSTART;TZID=Europe/Tallinn:20260104T100000
DTEND;TZID=Europe/Tallinn:20260104T113000
DTSTAMP:20260420T072716
CREATED:20251212T113016Z
LAST-MODIFIED:20251228T143419Z
UID:2245-1767520800-1767526200@eliisabet.ee
SUMMARY:Kristuse ilmumise püha ehk kolmekuningapäev Epiphanias
DESCRIPTION:Issanda templis – Me nägime Tema kirkust nagu Isast Ainusündinu kirkust\, täis armu ja tõde. Jh 1:14\nKLPR 355  valge \nPs 84:2-5\,11-12   1Sm 3:1-10   Rm 12:1-5   Jh 10:22-30 \n Isa taevas\, kõige hea andja\, Sinu Poeg tunnistas Sinust juba alates oma varajasest noorusest. Kingi meile oma Vaimu\, nii et me elame Sinu lastena Sinu palge ees ja kanname head vilja Sinu ülistuseks. Jeesuse Kristuse\, meie Issanda läbi. \nJeesus ütleb: „Minu lambad kuulevad minu häält ja mina tunnen neid ja nad järgnevad mulle ning ma annan neile igavese elu ja nad ei hukku iialgi ning keegi ei kisu neid minu käest.“ Jh 10:27-28 \nTänasel missal teenivad õp Joel Pulk\, diak Hanno Saks (jutlus) ja Andres Riivits. Orelil Aaro Tetsmann.
URL:https://eliisabet.ee/sundmus/jouluaja-2-puhapaev-2/
LOCATION:Pärnu Eliisabeti kirik\, Nikolai 22\, Pärnu\, Estonia
CATEGORIES:jumalateenistused
END:VEVENT
BEGIN:VEVENT
DTSTART;TZID=Europe/Tallinn:20260107T180000
DTEND;TZID=Europe/Tallinn:20260107T183000
DTSTAMP:20260420T072716
CREATED:20251212T111033Z
LAST-MODIFIED:20251212T111033Z
UID:2234-1767808800-1767810600@eliisabet.ee
SUMMARY:Alliansspalvenädala õhtupalvus
DESCRIPTION:2026. aasta alliansspalvenädala teema on “Jumala ustavus oma rahvale”. \nLoe lisa: \n\nhttps://www.allianss.ee/
URL:https://eliisabet.ee/sundmus/alliansspalvenadala-ohtupalvus/
LOCATION:Pärnu Eliisabeti kirik\, Nikolai 22\, Pärnu\, Estonia
CATEGORIES:palvused
END:VEVENT
BEGIN:VEVENT
DTSTART;TZID=Europe/Tallinn:20260110T090000
DTEND;TZID=Europe/Tallinn:20260110T110000
DTSTAMP:20260420T072716
CREATED:20251228T143829Z
LAST-MODIFIED:20251228T143829Z
UID:2305-1768035600-1768042800@eliisabet.ee
SUMMARY:Meeste osadushommik
DESCRIPTION:
URL:https://eliisabet.ee/sundmus/meeste-osadushommik-13/
LOCATION:Eliisabeti kiriku leerisaal\, Nikolai 22\, Pärnu\, Estonia
CATEGORIES:muud sündmused
END:VEVENT
BEGIN:VEVENT
DTSTART;TZID=Europe/Tallinn:20260111T100000
DTEND;TZID=Europe/Tallinn:20260111T113000
DTSTAMP:20260420T072716
CREATED:20251228T143644Z
LAST-MODIFIED:20260110T202404Z
UID:2299-1768125600-1768131000@eliisabet.ee
SUMMARY:Kristuse ristimise püha ehk 1. pühapäev pärast ilmumispüha
DESCRIPTION:Ristimise and – Keda iganes Jumala Vaim juhib\, on Jumala lapsed. Rm 8:14KLPR 7valge \n Kirjakohad: Ps 89:19-22\,27-30   Js 61:1-3   Ap 8:26-40   Jh 1:29-34 \n\nIssanda ristimise pühaga lõpeb jõulude tähistamine. \n\n\n\nJah\, 2. veebruaril naaseme veel korraks Issanda lapsepõlvelugude juurde\, kuid nagu tuleval pühapäeval praegusi valgeid asendavad rohelised kirikuvärvid osutavad\, saab jõulupühade rõõmuaeg tänasega läbi. Issanda ristimise püha osutab\, et Jeesus sündis siia ilma mitte pelgalt sündimise enda pärast\, vaid et saada lunastajaks kõigile patustele\, et ühendades endas Jumala ja inimese\, pakkuda kõigile võimalust tema läbi Jumala lasteks saada. Et tuua iseend justkui ohvritallena ohvriks maailma päästmiseks. \n\n\n\nTuletagem meelde ja tänagem Jumalat\, kui oleme saanud ristimise armu\, milles meid on uuesti sünnitatud Jumala lasteks. Aga palvetagem ka\, et võiksime elada selle üleva nimelise väärilistena\, mis meile on antud. Palvetagem iga päev ka oma ristitud laste ja ristilaste\, eriliselt aga ka kõigi nende ristitud laste eest\, kelle vanemad või ristivanemad ei täida ristimisel antud lubadusi kristliku kasvatuse ja usulise eeskuju osas. Palvetagem kõigi nende eest\, et nii nemad kui meie võiksime kõik kasvada Kristuse jüngritena siin maa peal\, olla need\, kellest meie taevasel Isal on hea meel ning viimaks Jumalat palgest palgesse näha ja sellest igavest rõõmu tunda. \n\n Kõigeväeline Jumal\, taevane Isa\, Jeesuse ristimisel Jordani jões tuli Püha Vaim Tema peale ja Sa ilmutasid Teda kui oma armast Poega. Tugevda kõigis ristituis kindlat teadmist\, et nad on Sinu lapsed\, ja juhi neid oma Vaimuga. Seda palume Jeesuse Kristuse\, meie Issanda läbi\, kes koos Sinuga Püha Vaimu ühtsuses elab ja valitseb igavesest ajast igavesti. \nMissal teenivad: õp Toomas Nigola\, Osvald Nigola\, Andres Riivits. Orelil: Aaro Tetsmann\, viiulil Marie Nigola.
URL:https://eliisabet.ee/sundmus/kristuse-ristimise-puha-ehk-1-puhapaev-parast-ilmumispuha-2/
LOCATION:Pärnu Eliisabeti kirik\, Nikolai 22\, Pärnu\, Estonia
CATEGORIES:jumalateenistused
END:VEVENT
BEGIN:VEVENT
DTSTART;TZID=Europe/Tallinn:20260114T120000
DTEND;TZID=Europe/Tallinn:20260114T130000
DTSTAMP:20260420T072716
CREATED:20251228T144038Z
LAST-MODIFIED:20251228T144038Z
UID:2310-1768392000-1768395600@eliisabet.ee
SUMMARY:Piiblitund
DESCRIPTION:
URL:https://eliisabet.ee/sundmus/piiblitund-8/
LOCATION:Eliisabeti kiriku leerisaal\, Nikolai 22\, Pärnu\, Estonia
CATEGORIES:piiblitunnid
END:VEVENT
BEGIN:VEVENT
DTSTART;TZID=Europe/Tallinn:20260114T180000
DTEND;TZID=Europe/Tallinn:20260114T183000
DTSTAMP:20260420T072716
CREATED:20251228T143455Z
LAST-MODIFIED:20251228T143455Z
UID:2295-1768413600-1768415400@eliisabet.ee
SUMMARY:Argipäevamissa
DESCRIPTION:
URL:https://eliisabet.ee/sundmus/argipaevamissa-79/
LOCATION:Pärnu Eliisabeti kirik\, Nikolai 22\, Pärnu\, Estonia
CATEGORIES:jumalateenistused
END:VEVENT
BEGIN:VEVENT
DTSTART;TZID=Europe/Tallinn:20260117T090000
DTEND;TZID=Europe/Tallinn:20260117T110000
DTSTAMP:20260420T072716
CREATED:20251228T143847Z
LAST-MODIFIED:20251228T143847Z
UID:2307-1768640400-1768647600@eliisabet.ee
SUMMARY:Meeste osadushommik
DESCRIPTION:
URL:https://eliisabet.ee/sundmus/meeste-osadushommik-14/
LOCATION:Eliisabeti kiriku leerisaal\, Nikolai 22\, Pärnu\, Estonia
CATEGORIES:muud sündmused
END:VEVENT
BEGIN:VEVENT
DTSTART;TZID=Europe/Tallinn:20260118T100000
DTEND;TZID=Europe/Tallinn:20260118T113000
DTSTAMP:20260420T072716
CREATED:20251228T143716Z
LAST-MODIFIED:20260117T125027Z
UID:2301-1768730400-1768735800@eliisabet.ee
SUMMARY:2. pühapäev pärast ilmumispüha
DESCRIPTION:Jeesus ilmutab oma jumalikku väge – Seadus on ju antud Moosese kaudu\, arm ja tõde aga tulnud Jeesuse Kristuse kaudu. Jh 1:17\nKLPR 264  roheline \nPs 105:1-5\,39-42   2Ms 17:1-6   Ilm 22:16-17   Jh 4:5-26 \n Kõigeväeline Jumal\, Sinu Poeg võttis kord äratõugatud Samaaria naise tema usu pärast vastu. Anna meile samasugust usku\, et meiegi võiksime loota ainult Sinu armastusele ja üksteist vastu võtta\, nagu Sina meid oled vastu võtnud. Seda palume Jeesuse Kristuse\, Sinu Poja\, meie Issanda läbi. \nTänasel missal teenivad: õp Toomas Nigola (jutlus)\, õp Joel Pulk\, diakonikandidaat Egert Nikolajevski (pihikõne)\, stud. theol Andres Riivits\, Osvald Nigola\, Henn Kaaleb Humal. Orelil: Aaro Tetsmann.
URL:https://eliisabet.ee/sundmus/2-puhapaev-parast-ilmumispuha-2/
LOCATION:Pärnu Eliisabeti kirik\, Nikolai 22\, Pärnu\, Estonia
CATEGORIES:jumalateenistused
END:VEVENT
BEGIN:VEVENT
DTSTART;TZID=Europe/Tallinn:20260124T110000
DTEND;TZID=Europe/Tallinn:20260124T120000
DTSTAMP:20260420T072716
CREATED:20251228T144130Z
LAST-MODIFIED:20251228T144130Z
UID:2312-1769252400-1769256000@eliisabet.ee
SUMMARY:Piiblitund
DESCRIPTION:
URL:https://eliisabet.ee/sundmus/piiblitund-9/
LOCATION:Eliisabeti kiriku leerisaal\, Nikolai 22\, Pärnu\, Estonia
CATEGORIES:piiblitunnid
END:VEVENT
BEGIN:VEVENT
DTSTART;TZID=Europe/Tallinn:20260125T100000
DTEND;TZID=Europe/Tallinn:20260125T113000
DTSTAMP:20260420T072716
CREATED:20251228T143746Z
LAST-MODIFIED:20251228T143746Z
UID:2303-1769335200-1769340600@eliisabet.ee
SUMMARY:3. pühapäev pärast ilmumispüha
DESCRIPTION:Jeesus äratab usule – Tuleb inimesi idast ja läänest\, põhjast ja lõunast\, ja nad istuvad lauas Jumala riigis. Lk 13:29\nKLPR 57  roheline \nPs 102:16-23   Js 30:18-21 (v 2Kn 5:1-15)   Hb 11:1-10   Jh 4:39-42 \n Kogu loodu Jumal\, Sa kutsud inimesi kõikide rahvaste hulgast oma riiki. Lase meil Sind usus ära tunda ja hoia meidki nende hulgas\, kes Sinule loodavad ja Sind tunnistavad. Kuule meid Jeesuse Kristuse\, Sinu Poja\, meie Issanda läbi.
URL:https://eliisabet.ee/sundmus/3-puhapaev-parast-ilmumispuha-2/
LOCATION:Pärnu Eliisabeti kirik\, Nikolai 22\, Pärnu\, Estonia
CATEGORIES:jumalateenistused
END:VEVENT
BEGIN:VEVENT
DTSTART;TZID=Europe/Tallinn:20260128T180000
DTEND;TZID=Europe/Tallinn:20260128T183000
DTSTAMP:20260420T072716
CREATED:20251228T143534Z
LAST-MODIFIED:20251228T143534Z
UID:2297-1769623200-1769625000@eliisabet.ee
SUMMARY:Argipäevamissa
DESCRIPTION:
URL:https://eliisabet.ee/sundmus/argipaevamissa-80/
LOCATION:Pärnu Eliisabeti kirik\, Nikolai 22\, Pärnu\, Estonia
CATEGORIES:jumalateenistused
END:VEVENT
BEGIN:VEVENT
DTSTART;TZID=Europe/Tallinn:20260131T110000
DTEND;TZID=Europe/Tallinn:20260131T120000
DTSTAMP:20260420T072716
CREATED:20251228T144148Z
LAST-MODIFIED:20251228T144148Z
UID:2314-1769857200-1769860800@eliisabet.ee
SUMMARY:Piiblitund
DESCRIPTION:
URL:https://eliisabet.ee/sundmus/piiblitund-10/
LOCATION:Eliisabeti kiriku leerisaal\, Nikolai 22\, Pärnu\, Estonia
CATEGORIES:piiblitunnid
END:VEVENT
BEGIN:VEVENT
DTSTART;TZID=Europe/Tallinn:20260201T100000
DTEND;TZID=Europe/Tallinn:20260201T113000
DTSTAMP:20260420T072716
CREATED:20260115T112649Z
LAST-MODIFIED:20260115T112649Z
UID:2332-1769940000-1769945400@eliisabet.ee
SUMMARY:Küünlapäeva missa
DESCRIPTION:Tulge ja vaadake Jumala tegusid\, kes on kardetav oma tegemistes inimlaste juures. Ps 66:5\nKLPR 62  valge* \nPs 48:10-15   2Ms 33:18-23   1Tm 6:13-16   Lk 2:22-33 \n Jumal\, kõige valguse allikas\, Siimeon ja Hanna said templis näha Sinu Poega ja ülistada Sind maailma Päästja eest. Juhi oma Vaimuga ka meid\, nii et me ära tunneme oma pääste\, mille Sa oled valmistanud Iisraelile ja kõigile rahvaile Jeesuses Kristuses\, meie Issandas\, kes koos Sinuga Püha Vaimu ühtsuses elab ja valitseb igavesest ajast igavesti. \nTänasel missal teenivad õp Toomas Nigola\, õp Joel Pulk\, diak Hanno Saks\, lektorid ja ministrandid Andres Riivits ja Osvald Nigola. Organist Aaro Tetsmann.
URL:https://eliisabet.ee/sundmus/kuunlapaeva-missa/
LOCATION:Pärnu Eliisabeti kirik\, Nikolai 22\, Pärnu\, Estonia
CATEGORIES:jumalateenistused
END:VEVENT
BEGIN:VEVENT
DTSTART;TZID=Europe/Tallinn:20260208T100000
DTEND;TZID=Europe/Tallinn:20260208T113000
DTSTAMP:20260420T072716
CREATED:20260115T113119Z
LAST-MODIFIED:20260115T113119Z
UID:2334-1770544800-1770550200@eliisabet.ee
SUMMARY:2. pühapäev enne paastuaega (Sexagesima)
DESCRIPTION:Jumala sõna külv – Täna\, kui teie Tema häält kuulete\, ärge tehke oma südant kõvaks. Hb 3:15\nKLPR 183  roheline \nPs 44:2-5   Ho 10:12-13   1Kr 3:7-15   Jh 4:31-38 \n Kõigeväeline Jumal\, me palume Sind\, anna meile oma Vaimu ja jumalikku tarkust\, et Sinu püha sõna meie keskel elaks ja kasvaks. Lase oma sõna rõõmuga ja puhtasti kuulutada ning ehita sellega oma kogudust\, nõnda et me Sind kindlas usus teenime ja julgelt tunnistame ning õndsaks saame. Jeesuse Kristuse\, Sinu Poja\, meie Issanda läbi.
URL:https://eliisabet.ee/sundmus/2-puhapaev-enne-paastuaega-sexagesima-2/
LOCATION:Pärnu Eliisabeti kirik\, Nikolai 22\, Pärnu\, Estonia
CATEGORIES:jumalateenistused
END:VEVENT
BEGIN:VEVENT
DTSTART;TZID=Europe/Tallinn:20260211T180000
DTEND;TZID=Europe/Tallinn:20260211T190000
DTSTAMP:20260420T072716
CREATED:20260115T113209Z
LAST-MODIFIED:20260115T113209Z
UID:2336-1770832800-1770836400@eliisabet.ee
SUMMARY:Argipäevamissa
DESCRIPTION:
URL:https://eliisabet.ee/sundmus/argipaevamissa-81/
LOCATION:Pärnu Eliisabeti kirik\, Nikolai 22\, Pärnu\, Estonia
CATEGORIES:jumalateenistused
END:VEVENT
BEGIN:VEVENT
DTSTART;TZID=Europe/Tallinn:20260214T090000
DTEND;TZID=Europe/Tallinn:20260214T110000
DTSTAMP:20260420T072716
CREATED:20260115T113655Z
LAST-MODIFIED:20260115T113655Z
UID:2342-1771059600-1771066800@eliisabet.ee
SUMMARY:Meeste osadushommik
DESCRIPTION:
URL:https://eliisabet.ee/sundmus/meeste-osadushommik-15/
LOCATION:Eliisabeti kiriku leerisaal\, Nikolai 22\, Pärnu\, Estonia
CATEGORIES:muud sündmused
END:VEVENT
BEGIN:VEVENT
DTSTART;TZID=Europe/Tallinn:20260215T100000
DTEND;TZID=Europe/Tallinn:20260215T113000
DTSTAMP:20260420T072716
CREATED:20260115T113255Z
LAST-MODIFIED:20260115T113255Z
UID:2338-1771149600-1771155000@eliisabet.ee
SUMMARY:Pühapäev enne paastuaega (Esto mihi; Quinquagesima)
DESCRIPTION:Jumala armastuse ohvritee – Vaata\, me läheme üles Jeruusalemma ja seal viiakse lõpule kõik see\, mis prohvetid on kirjutanud Inimese Pojast! Lk 18:31\nKLPR 317  roheline \nPs 31:1-6   Jr 8:4-7   1Kr 13 (v Gl 2:19-21)   Jh 12:25-33 \n Issand Jeesus Kristus\, Sina oled oma elu ohverdanud\, aga meie soovime oma elust kinni hoida ja end säästa. Me palume\, võta meid kaasa oma teele\, et me koos Sinuga tõelise elu leiaksime. Sulle olgu ülistus ja au\, kes Sa koos Isaga Püha Vaimu ühtsuses elad ja valitsed igavesest ajast igavesti.
URL:https://eliisabet.ee/sundmus/puhapaev-enne-paastuaega-esto-mihi-quinquagesima-2/
LOCATION:Pärnu Eliisabeti kirik\, Nikolai 22\, Pärnu\, Estonia
CATEGORIES:jumalateenistused
END:VEVENT
BEGIN:VEVENT
DTSTART;TZID=Europe/Tallinn:20260218T130000
DTEND;TZID=Europe/Tallinn:20260218T140000
DTSTAMP:20260420T072716
CREATED:20260204T112154Z
LAST-MODIFIED:20260204T112154Z
UID:2430-1771419600-1771423200@eliisabet.ee
SUMMARY:Piiblitund
DESCRIPTION:
URL:https://eliisabet.ee/sundmus/piiblitund-12/
LOCATION:Eliisabeti kiriku leerisaal\, Nikolai 22\, Pärnu\, Estonia
CATEGORIES:piiblitunnid
END:VEVENT
BEGIN:VEVENT
DTSTART;TZID=Europe/Tallinn:20260218T180000
DTEND;TZID=Europe/Tallinn:20260218T190000
DTSTAMP:20260420T072716
CREATED:20260115T110025Z
LAST-MODIFIED:20260126T085947Z
UID:2330-1771437600-1771441200@eliisabet.ee
SUMMARY:Tuhkapäeva missa
DESCRIPTION:Tuhkapäevaga algab ülestõusmispühadele eelnev 40-päaevane suur paastuaeg. \nTuhkapäeva missa erineb tavapärastest paastuaja missadest selle poolest\, et pärast jutlust on meeleparandusosa ühispihi ja tuhamärgi tegemisega. \nSeekordne tuhkapäeva missa on meie jaoks eriline ka selle poolest\, et tegemist on piiskopliku missaga: teenib ja jutlustab peapiiskop Urmas Viilma. \nTuhkapäev ja paastuaeg\nTuhkapäev on alati kolmapäev\, mis langeb seitsmendasse nädalasse enne ülestõusmispüha\, ajavahemikku 4. veebruarist kuni 10. märtsini. \nPaastuaja pühapäevi ei loeta paastupäevade hulka. Piibellikuks aluseks paastuaja pikkuse määramisel on olnud Jeesuse paastumine kõrbes\, samuti Moosese 40-päevane viibimine Siinai mäel\, prohvet Eelija paast ja Niinive linnale antud meeleparandusaeg. \nKuna see on kirikuaasta pikim paastuaeg\, on seda nimetatud ka suureks paastuks. \nKui ülestõusmispüha kujunes algkirikus ristimispühaks\, sai suurest paastuajast ristimiseks valmistumise viimane etapp. \nPaastuajal on mitu eesmärki: \n\ninimene kahetseb oma pattu ja kiindumust sellesse maailma ning igatseb tagasi pöörduda Jumala tahte täitmisele;\ninimene tunnetab Jumala pühadust ja armastust\, mis saab eriliselt nähtavaks Kristuse kannatuses ja ristisurmas;\ninimene püüab kasvada üha vastutustundlikumaks ja õpib jagama enda omast teiste abivajajate heaks.\n\nPaastuaja algusosa teemadeks on patukahetsus\, meeleparandus ja võitlus pimedusejõudude vastu. Tagasihoidlikkus söömisharjumustes ja muudes eluviisides võib olla abiks paastuga liituvas vaimulikus võitlemises. Paastuaja tõsidus ja elumõnude piiramine väljendub ka liturgias. Gloria ja Halleluuja jäävad jumalateenistustel ära kogu paastuaja vältel. \nPaastuaja kaks viimast nädalat keskenduvad Kristuse kannatustele ja seetõttu nimetataksegi seda aega ka Kristuse kannatusajaks.
URL:https://eliisabet.ee/sundmus/tuhkapaeva-missa/
LOCATION:Pärnu Eliisabeti kirik\, Nikolai 22\, Pärnu\, Estonia
CATEGORIES:jumalateenistused
END:VEVENT
BEGIN:VEVENT
DTSTART;TZID=Europe/Tallinn:20260218T190000
DTEND;TZID=Europe/Tallinn:20260218T200000
DTSTAMP:20260420T072716
CREATED:20260126T090122Z
LAST-MODIFIED:20260212T163938Z
UID:2407-1771441200-1771444800@eliisabet.ee
SUMMARY:Peapiiskop Urmas Viilma raamatu "Rist kolbal" esitlus
DESCRIPTION:Tuhkapäeval\, 18. veebruaril pärast õhtust missat toimub Pärnu Eliisabeti kirikus peapiiskop Urmas Viilma uue raamatu “Rist kolbal: Kuidas saada pühaks” esitlus. \nEsmalt advendiajal Tallinnas esitletud teos on sündinud sügavast isiklikust kogemusest ja rännakutest\, pakkudes mõtteainet inimese ajalikust olemusest ja igatsusest pühaduse järele. Raamatu keskne kujund pärineb autori mälestusest Athose mäel asuvast Xenophontose kloostrist\, kus ta seisis silmitsi sadade munkade säilmetega. \nPeapiiskop Viilma kirjeldab raamatu tutvustuses seda hetke kloostri luukambris: “Valkjad ja kreemjad pead. Kõik puhtaks pestud ja sirges reas nagu suured pärlid. Üksikutele kolpadele oli moodustunud ristikujuline õmblusjoon. See füüsiline\, samas müstiline ristimärk surnupealuul jäi küsimusena püsima minu südamesse: kas minu kolbal on ristimärk?” \nSee küsimus juhatas autorit palverännuteele ja inspireeris kirjutama teost\, mis ei kutsu lugejat maailmast eralduma\, vaid leidma pühadust just igapäevase elu keskelt. Viilma rõhutab\, et igatsus saada pühaks on tallel iga inimese südames\, sõltumata sellest\, kui lähedal või kaugel keegi parasjagu kirikust seisab. \nRaamat “Rist kolbal” on illustreeritud paljude fotodega ning on mõeldud teejuhiks neile\, kes soovivad mõtestada oma elu ja astuda argimaailmas sammu lähemale Jumalale. \nRaamatu esitlus ja kohtumine autoriga toimub vahetult pärast tuhkapäeva jumalateenistust\, mis algab kell 18.00 Pärnu Eliisabeti kirikus. Raamat on sel päeval saadaval ka esitluspäeva hinnaga ning mõistagi on võimalik küsida autori pühendust. \n\nVaata ka:\n\nNeljandal advendipühapäeval ilmub peapiiskop Urmas Viilma uus raamat “Rist kolbal”\, e-Kirik 09.12.2025
URL:https://eliisabet.ee/sundmus/peapiiskop-urmas-viilma-raamatu-rist-kolbal-esitlus/
CATEGORIES:muud sündmused
END:VEVENT
BEGIN:VEVENT
DTSTART;TZID=Europe/Tallinn:20260221T090000
DTEND;TZID=Europe/Tallinn:20260221T110000
DTSTAMP:20260420T072716
CREATED:20260115T113714Z
LAST-MODIFIED:20260115T113714Z
UID:2344-1771664400-1771671600@eliisabet.ee
SUMMARY:Meeste osadushommik
DESCRIPTION:
URL:https://eliisabet.ee/sundmus/meeste-osadushommik-16/
LOCATION:Eliisabeti kiriku leerisaal\, Nikolai 22\, Pärnu\, Estonia
CATEGORIES:muud sündmused
END:VEVENT
BEGIN:VEVENT
DTSTART;TZID=Europe/Tallinn:20260222T100000
DTEND;TZID=Europe/Tallinn:20260222T113000
DTSTAMP:20260420T072716
CREATED:20260115T113356Z
LAST-MODIFIED:20260115T113356Z
UID:2340-1771754400-1771759800@eliisabet.ee
SUMMARY:Paastuaja 1. pühapäev (Invocavit)
DESCRIPTION:Jeesus – kiusatuste võitja – Selleks ongi Jumala Poeg saanud avalikuks\, et Ta tühistaks kuradi teod. 1Jh 3:8b\nKLPR 316  violett \nPs 91:1-4\,11-12\,15   1Ms 4:3-10 (v 1Ms 3:1-7 (8-19))   Jk 1:12-15   Mt 16:21-23 \n Kõigeväeline Issand\, meie tugevuse allikas. Hea ja kurja võitlus käib nii meie sees kui meie ümber. Hoia meid kindlalt oma sõnas\, julgusta meid võitlema kurja vastu ning kui me langeme\, siis tõsta meid jälle üles ja tee meie hing terveks Jeesuse Kristuse\, Sinu Poja\, meie Issanda läbi.
URL:https://eliisabet.ee/sundmus/paastuaja-1-puhapaev-invocavit-2/
LOCATION:Pärnu Eliisabeti kirik\, Nikolai 22\, Pärnu\, Estonia
CATEGORIES:jumalateenistused
END:VEVENT
BEGIN:VEVENT
DTSTART;TZID=Europe/Tallinn:20260225T180000
DTEND;TZID=Europe/Tallinn:20260225T190000
DTSTAMP:20260420T072716
CREATED:20260223T085804Z
LAST-MODIFIED:20260223T085804Z
UID:2437-1772042400-1772046000@eliisabet.ee
SUMMARY:Argipäevamissa
DESCRIPTION:
URL:https://eliisabet.ee/sundmus/argipaevamissa-82/
LOCATION:Pärnu Eliisabeti kirik\, Nikolai 22\, Pärnu\, Estonia
CATEGORIES:jumalateenistused
END:VEVENT
BEGIN:VEVENT
DTSTART;TZID=Europe/Tallinn:20260228T110000
DTEND;TZID=Europe/Tallinn:20260228T120000
DTSTAMP:20260420T072716
CREATED:20260115T113850Z
LAST-MODIFIED:20260301T120142Z
UID:2346-1772276400-1772280000@eliisabet.ee
SUMMARY:Piiblitund: Kl 11
DESCRIPTION:28. veebruaril kell 11 peab leerisaalis piiblitunni mag. theol. Liisa Rossi. Teemaks on Pauluse kiri koloslastele. \nLiisa Rossi piiblitunnid toimuvad veebruari\, märtsi\, aprilli ja mai neljandal laupäeval ja nõnda saab selle talvega terve Kolossa kiri läbi töötatud. \nTere tulemast!
URL:https://eliisabet.ee/sundmus/piiblitund-11/
LOCATION:Eliisabeti kiriku leerisaal\, Nikolai 22\, Pärnu\, Estonia
CATEGORIES:piiblitunnid
END:VEVENT
BEGIN:VEVENT
DTSTART;TZID=Europe/Tallinn:20260301T100000
DTEND;TZID=Europe/Tallinn:20260301T113000
DTSTAMP:20260420T072716
CREATED:20260223T100729Z
LAST-MODIFIED:20260223T100915Z
UID:2463-1772359200-1772364600@eliisabet.ee
SUMMARY:Paastuaja 2. pühapäev Reminiscere
DESCRIPTION:Palve ja usk – Jumal teeb nähtavaks oma armastuse meie vastu sellega\, et Kristus suri meie eest\, kui me olime alles patused. Rm 5:8\nKLPR 327  violett \nPs 25:1-10   2Kn 20:1-7   1Kr 10:12-13   Mk 9:17-29 \n Kõigeväeline ja igavene Jumal\, Sa oled andnud meile suured ja kallid tõotused\, millesse uskuda. Kingi meile täiuslikku usku\, mis ületab kõik kahtlused. Seda palume Jeesuse Kristuse\, Sinu Poja\, meie Issanda läbi.
URL:https://eliisabet.ee/sundmus/paastuaja-2-puhapaev-reminiscere-2/
LOCATION:Pärnu Eliisabeti kirik\, Nikolai 22\, Pärnu\, Estonia
CATEGORIES:jumalateenistused
END:VEVENT
BEGIN:VEVENT
DTSTART;TZID=Europe/Tallinn:20260304T180000
DTEND;TZID=Europe/Tallinn:20260304T183000
DTSTAMP:20260420T072716
CREATED:20260228T073003Z
LAST-MODIFIED:20260228T073003Z
UID:2561-1772647200-1772649000@eliisabet.ee
SUMMARY:Argipäevamissa
DESCRIPTION:
URL:https://eliisabet.ee/sundmus/argipaevamissa-85/
LOCATION:Pärnu Eliisabeti kirik\, Nikolai 22\, Pärnu\, Estonia
CATEGORIES:jumalateenistused
END:VEVENT
BEGIN:VEVENT
DTSTART;TZID=Europe/Tallinn:20260306T180000
DTEND;TZID=Europe/Tallinn:20260306T190000
DTSTAMP:20260420T072716
CREATED:20260223T115650Z
LAST-MODIFIED:20260223T115650Z
UID:2474-1772820000-1772823600@eliisabet.ee
SUMMARY:Ülemaailmse Naiste Palvepäeva oikumeeniline jumalateenistus
DESCRIPTION:
URL:https://eliisabet.ee/sundmus/ulemaailmse-naiste-palvepaeva-oikumeeniline-jumalateenistus/
LOCATION:Pärnu Eliisabeti kirik\, Nikolai 22\, Pärnu\, Estonia
CATEGORIES:jumalateenistused
END:VEVENT
BEGIN:VEVENT
DTSTART;TZID=Europe/Tallinn:20260307T180000
DTEND;TZID=Europe/Tallinn:20260307T190000
DTSTAMP:20260420T072716
CREATED:20250707T115055Z
LAST-MODIFIED:20260228T012120Z
UID:1394-1772906400-1772910000@eliisabet.ee
SUMMARY:MUSICA SACRA. Kai Kallastu (sopran)\, Andrus Kallastu (orel). Kavas Massenet\, Mascagni\, Respighi\, Tosti\, Verdi
DESCRIPTION:MUSICA SACRA\nKevad 2026\nPõneva muusika kontserdisari \nL 7.3.2026 kell 18.00 Pärnu Eliisabeti kirik  \nKai Kallastu (sopran)\, Andrus Kallastu (orel)\nAVE MARIA\nKavas Massenet\, Mascagni\, Respighi\, Tosti\, Verdi \nMUSICA SACRA kontserdisarja kava Facebookis https://www.facebook.com/events/2984790151909546/2984790198576208/ \nKontserdi kestus ca 1 tund. Hilinejaid kontserdile ei lubata. \nÜksikpääse 20 eurot müügil pool tundi enne kontserdi algust kohapeal (makse sularahas) ja 15 eurot eelmüügis Piletilevis www.piletilevi.ee\nPerepääse 25 eurot (üks täiskasvanu ja alla 18-aastased lapsed) müügil pool tundi enne kontserdi algust kohapeal (makse sularahas) ja 20 eurot eelmüügis Piletilevis www.piletilevi.ee\nAbonementpääse 60 eurot annab õiguse külastada sarja kõiki kevadhooaja 2026 kontserte\nKontserdisarjaga liitub publikukoolitusprogramm õpilastele\, info ooper@parnu.ee \nKoostöös: Eesti Kultuurkapital\, Pärnu linn\, EELK Pärnu Eliisabeti kogudus\, EELK Tartu Ülikooli-Jaani Kogudus\, Pärnu Ooper \nMUSICA SACRA on kontserdisari\, mille eesmärk on kanda ette uudisloomingut\, anda interpreetidele võimalus teostada kunstiliselt eredaid kontserdikavu\, kaasata eestlastele lisaks kõrgel tasemel külalismuusikuid ning viia kontserdiprojekte Eestist välja. Kontserdid toimuvad laupäeviti kell kuus Pärnu Eliisabeti kirikus ja kolmapäeviti kell seitse Tartu Jaani kirikus. Kontserdisarja korraldab Pärnu Ooper ja kava koostatakse Pärnu vikis. Sarja kunstiline juht on Andrus Kallastu. \nhttp://ooper.parnu.ee/
URL:https://eliisabet.ee/sundmus/musica-sacra-kevad-2026-01/
LOCATION:Pärnu Eliisabeti kirik\, Nikolai 22\, Pärnu\, Estonia
CATEGORIES:kontsert
ORGANIZER;CN="P%C3%A4rnu Ooper":MAILTO:ooper@parnu.ee
END:VEVENT
END:VCALENDAR