BEGIN:VCALENDAR
VERSION:2.0
PRODID:-//P&auml;rnu Eliisabeti kogudus - ECPv6.15.20//NONSGML v1.0//EN
CALSCALE:GREGORIAN
METHOD:PUBLISH
X-WR-CALNAME:P&auml;rnu Eliisabeti kogudus
X-ORIGINAL-URL:https://eliisabet.ee
X-WR-CALDESC:Events for P&auml;rnu Eliisabeti kogudus
REFRESH-INTERVAL;VALUE=DURATION:PT1H
X-Robots-Tag:noindex
X-PUBLISHED-TTL:PT1H
BEGIN:VTIMEZONE
TZID:Europe/Tallinn
BEGIN:DAYLIGHT
TZOFFSETFROM:+0200
TZOFFSETTO:+0300
TZNAME:EEST
DTSTART:20240331T010000
END:DAYLIGHT
BEGIN:STANDARD
TZOFFSETFROM:+0300
TZOFFSETTO:+0200
TZNAME:EET
DTSTART:20241027T010000
END:STANDARD
BEGIN:DAYLIGHT
TZOFFSETFROM:+0200
TZOFFSETTO:+0300
TZNAME:EEST
DTSTART:20250330T010000
END:DAYLIGHT
BEGIN:STANDARD
TZOFFSETFROM:+0300
TZOFFSETTO:+0200
TZNAME:EET
DTSTART:20251026T010000
END:STANDARD
BEGIN:DAYLIGHT
TZOFFSETFROM:+0200
TZOFFSETTO:+0300
TZNAME:EEST
DTSTART:20260329T010000
END:DAYLIGHT
BEGIN:STANDARD
TZOFFSETFROM:+0300
TZOFFSETTO:+0200
TZNAME:EET
DTSTART:20261025T010000
END:STANDARD
BEGIN:DAYLIGHT
TZOFFSETFROM:+0200
TZOFFSETTO:+0300
TZNAME:EEST
DTSTART:20270328T010000
END:DAYLIGHT
BEGIN:STANDARD
TZOFFSETFROM:+0300
TZOFFSETTO:+0200
TZNAME:EET
DTSTART:20271031T010000
END:STANDARD
END:VTIMEZONE
BEGIN:VEVENT
DTSTART;TZID=Europe/Tallinn:20260307T180000
DTEND;TZID=Europe/Tallinn:20260307T190000
DTSTAMP:20260420T094126
CREATED:20250707T115055Z
LAST-MODIFIED:20260228T012120Z
UID:1394-1772906400-1772910000@eliisabet.ee
SUMMARY:MUSICA SACRA. Kai Kallastu (sopran)\, Andrus Kallastu (orel). Kavas Massenet\, Mascagni\, Respighi\, Tosti\, Verdi
DESCRIPTION:MUSICA SACRA\nKevad 2026\nPõneva muusika kontserdisari \nL 7.3.2026 kell 18.00 Pärnu Eliisabeti kirik  \nKai Kallastu (sopran)\, Andrus Kallastu (orel)\nAVE MARIA\nKavas Massenet\, Mascagni\, Respighi\, Tosti\, Verdi \nMUSICA SACRA kontserdisarja kava Facebookis https://www.facebook.com/events/2984790151909546/2984790198576208/ \nKontserdi kestus ca 1 tund. Hilinejaid kontserdile ei lubata. \nÜksikpääse 20 eurot müügil pool tundi enne kontserdi algust kohapeal (makse sularahas) ja 15 eurot eelmüügis Piletilevis www.piletilevi.ee\nPerepääse 25 eurot (üks täiskasvanu ja alla 18-aastased lapsed) müügil pool tundi enne kontserdi algust kohapeal (makse sularahas) ja 20 eurot eelmüügis Piletilevis www.piletilevi.ee\nAbonementpääse 60 eurot annab õiguse külastada sarja kõiki kevadhooaja 2026 kontserte\nKontserdisarjaga liitub publikukoolitusprogramm õpilastele\, info ooper@parnu.ee \nKoostöös: Eesti Kultuurkapital\, Pärnu linn\, EELK Pärnu Eliisabeti kogudus\, EELK Tartu Ülikooli-Jaani Kogudus\, Pärnu Ooper \nMUSICA SACRA on kontserdisari\, mille eesmärk on kanda ette uudisloomingut\, anda interpreetidele võimalus teostada kunstiliselt eredaid kontserdikavu\, kaasata eestlastele lisaks kõrgel tasemel külalismuusikuid ning viia kontserdiprojekte Eestist välja. Kontserdid toimuvad laupäeviti kell kuus Pärnu Eliisabeti kirikus ja kolmapäeviti kell seitse Tartu Jaani kirikus. Kontserdisarja korraldab Pärnu Ooper ja kava koostatakse Pärnu vikis. Sarja kunstiline juht on Andrus Kallastu. \nhttp://ooper.parnu.ee/
URL:https://eliisabet.ee/sundmus/musica-sacra-kevad-2026-01/
LOCATION:Pärnu Eliisabeti kirik\, Nikolai 22\, Pärnu\, Estonia
CATEGORIES:kontsert
ORGANIZER;CN="P%C3%A4rnu Ooper":MAILTO:ooper@parnu.ee
END:VEVENT
BEGIN:VEVENT
DTSTART;TZID=Europe/Tallinn:20251122T160000
DTEND;TZID=Europe/Tallinn:20251122T170000
DTSTAMP:20260420T094126
CREATED:20250707T102939Z
LAST-MODIFIED:20250820T154836Z
UID:1390-1763827200-1763830800@eliisabet.ee
SUMMARY:MUSICA SACRA. Sügis 2025. Kai Kallastu (sopran)\, Andrus Kallastu (orel). Kavas filmimuusika
DESCRIPTION:MUSICA SACRASügis 2025Põneva muusika kontserdisari\nL 22.11.2025 kell 16.00 Pärnu Eliisabeti kirik. Kai Kallastu (sopran)\, Andrus Kallastu (orel). Kavas filmimuusikahttps://www.facebook.com/events/1718915225448782/\nMUSICA SACRA on kontserdisari\, mille eesmärk on kanda ette uudisloomingut\, anda interpreetidele võimalus teostada kunstiliselt eredaid kontserdikavu\, kaasata eestlastele lisaks kõrgel tasemel külalismuusikuid ning viia kontserdiprojekte Eestist välja. Kontserdid toimuvad laupäeviti kell neli Pärnu Eliisabeti kirikus ja kolmapäeviti kell seitse Tartu Jaani kirikus. Kontserdisarja korraldab Pärnu Ooper ja kava koostatakse Pärnu vikis. Sarja kunstiline juht on Andrus Kallastu. \nKoostöös: Eesti Kultuurkapital\, Pärnu linn\, EELK Pärnu Eliisabeti kogudus\, EELK Tartu Ülikooli-Jaani Kogudus\, Pärnu Ooper
URL:https://eliisabet.ee/sundmus/musica-sacra-sugis-2025-12/
LOCATION:Pärnu Eliisabeti kirik\, Nikolai 22\, Pärnu\, Estonia
CATEGORIES:kontsert
ORGANIZER;CN="P%C3%A4rnu Ooper":MAILTO:ooper@parnu.ee
END:VEVENT
BEGIN:VEVENT
DTSTART;TZID=Europe/Tallinn:20251115T160000
DTEND;TZID=Europe/Tallinn:20251115T170000
DTSTAMP:20260420T094126
CREATED:20250707T102714Z
LAST-MODIFIED:20251029T113800Z
UID:1388-1763222400-1763226000@eliisabet.ee
SUMMARY:MUSICA SACRA. Sügis 2025. Kirill Lissijenko (klaver). Kavas Chopin
DESCRIPTION:MUSICA SACRASügis 2025Põneva muusika kontserdisari\nL 15.11.2025 kell 16.00 Pärnu Eliisabeti kirik. Kirill Lissijenko (klaver). Kavas Chopinhttps://www.facebook.com/events/1569881830658554/\nMUSICA SACRA on kontserdisari\, mille eesmärk on kanda ette uudisloomingut\, anda interpreetidele võimalus teostada kunstiliselt eredaid kontserdikavu\, kaasata eestlastele lisaks kõrgel tasemel külalismuusikuid ning viia kontserdiprojekte Eestist välja. Kontserdid toimuvad laupäeviti kell neli Pärnu Eliisabeti kirikus ja kolmapäeviti kell seitse Tartu Jaani kirikus. Kontserdisarja korraldab Pärnu Ooper ja kava koostatakse Pärnu vikis. Sarja kunstiline juht on Andrus Kallastu. \nKoostöös: Eesti Kultuurkapital\, Pärnu linn\, EELK Pärnu Eliisabeti kogudus\, EELK Tartu Ülikooli-Jaani Kogudus\, Pärnu Ooper
URL:https://eliisabet.ee/sundmus/musica-sacra-sugis-2025-11/
LOCATION:Pärnu Eliisabeti kirik\, Nikolai 22\, Pärnu\, Estonia
CATEGORIES:kontsert
ORGANIZER;CN="P%C3%A4rnu Ooper":MAILTO:ooper@parnu.ee
END:VEVENT
BEGIN:VEVENT
DTSTART;TZID=Europe/Tallinn:20251108T160000
DTEND;TZID=Europe/Tallinn:20251108T170000
DTSTAMP:20260420T094126
CREATED:20250707T102330Z
LAST-MODIFIED:20250820T154931Z
UID:1385-1762617600-1762621200@eliisabet.ee
SUMMARY:MUSICA SACRA. Sügis 2025. Kristina Kriit (viiul). Kavas Bach\, Bartók \, Ysaÿe
DESCRIPTION:MUSICA SACRASügis 2025Põneva muusika kontserdisari\nL 8.11.2025 kell 16.00 Pärnu Eliisabeti kiri. Kristina Kriit (viiul). Kavas Bach\, Bartók \, Ysaÿehttps://www.facebook.com/events/24203308452692934/\nMUSICA SACRA on kontserdisari\, mille eesmärk on kanda ette uudisloomingut\, anda interpreetidele võimalus teostada kunstiliselt eredaid kontserdikavu\, kaasata eestlastele lisaks kõrgel tasemel külalismuusikuid ning viia kontserdiprojekte Eestist välja. Kontserdid toimuvad laupäeviti kell neli Pärnu Eliisabeti kirikus ja kolmapäeviti kell seitse Tartu Jaani kirikus. Kontserdisarja korraldab Pärnu Ooper ja kava koostatakse Pärnu vikis. Sarja kunstiline juht on Andrus Kallastu. \nKoostöös: Eesti Kultuurkapital\, Pärnu linn\, EELK Pärnu Eliisabeti kogudus\, EELK Tartu Ülikooli-Jaani Kogudus\, Pärnu Ooper
URL:https://eliisabet.ee/sundmus/musica-sacra-sugis-2025-10/
LOCATION:Pärnu Eliisabeti kirik\, Nikolai 22\, Pärnu\, Estonia
CATEGORIES:kontsert
ORGANIZER;CN="P%C3%A4rnu Ooper":MAILTO:ooper@parnu.ee
END:VEVENT
BEGIN:VEVENT
DTSTART;TZID=Europe/Tallinn:20251101T160000
DTEND;TZID=Europe/Tallinn:20251101T170000
DTSTAMP:20260420T094126
CREATED:20250707T102214Z
LAST-MODIFIED:20250820T154942Z
UID:1383-1762012800-1762016400@eliisabet.ee
SUMMARY:MUSICA SACRA. Sügis 2025. Kai Kallastu (sopran)\, Andrus Kallastu (elektroonika). Kavas müsteerium LOOMINE JA LÕPP
DESCRIPTION:MUSICA SACRASügis 2025Põneva muusika kontserdisari\nL 1.11.2025 kell 16.00 Pärnu Eliisabeti kirik. Kai Kallastu (sopran)\, Andrus Kallastu (elektroonika). Kavas müsteerium LOOMINE JA LÕPPhttps://www.facebook.com/events/1106692630857984/\nMUSICA SACRA on kontserdisari\, mille eesmärk on kanda ette uudisloomingut\, anda interpreetidele võimalus teostada kunstiliselt eredaid kontserdikavu\, kaasata eestlastele lisaks kõrgel tasemel külalismuusikuid ning viia kontserdiprojekte Eestist välja. Kontserdid toimuvad laupäeviti kell neli Pärnu Eliisabeti kirikus ja kolmapäeviti kell seitse Tartu Jaani kirikus. Kontserdisarja korraldab Pärnu Ooper ja kava koostatakse Pärnu vikis. Sarja kunstiline juht on Andrus Kallastu. \nKoostöös: Eesti Kultuurkapital\, Pärnu linn\, EELK Pärnu Eliisabeti kogudus\, EELK Tartu Ülikooli-Jaani Kogudus\, Pärnu Ooper
URL:https://eliisabet.ee/sundmus/musica-sacra-sugis-2025-09/
LOCATION:Pärnu Eliisabeti kirik\, Nikolai 22\, Pärnu\, Estonia
CATEGORIES:kontsert
ORGANIZER;CN="P%C3%A4rnu Ooper":MAILTO:ooper@parnu.ee
END:VEVENT
BEGIN:VEVENT
DTSTART;TZID=Europe/Tallinn:20251025T160000
DTEND;TZID=Europe/Tallinn:20251025T170000
DTSTAMP:20260420T094126
CREATED:20250707T102014Z
LAST-MODIFIED:20250820T155023Z
UID:1381-1761408000-1761411600@eliisabet.ee
SUMMARY:MUSICA SACRA. Sügis 2025. Kai Kallastu (sopran)\, Andrus Kallastu (elektroonika). Kavas Croft\, Godsil\, Kallastu
DESCRIPTION:MUSICA SACRASügis 2025Põneva muusika kontserdisari\nL 25.10.2025 kell 16.00 Pärnu Eliisabeti kirik. Kai Kallastu (sopran)\, Andrus Kallastu (elektroonika). Kavas Croft\, Godsil\, Kallastuhttps://www.facebook.com/events/742077152026651/\nMUSICA SACRA on kontserdisari\, mille eesmärk on kanda ette uudisloomingut\, anda interpreetidele võimalus teostada kunstiliselt eredaid kontserdikavu\, kaasata eestlastele lisaks kõrgel tasemel külalismuusikuid ning viia kontserdiprojekte Eestist välja. Kontserdid toimuvad laupäeviti kell neli Pärnu Eliisabeti kirikus ja kolmapäeviti kell seitse Tartu Jaani kirikus. Kontserdisarja korraldab Pärnu Ooper ja kava koostatakse Pärnu vikis. Sarja kunstiline juht on Andrus Kallastu. \nKoostöös: Eesti Kultuurkapital\, Pärnu linn\, EELK Pärnu Eliisabeti kogudus\, EELK Tartu Ülikooli-Jaani Kogudus\, Pärnu Ooper \n 
URL:https://eliisabet.ee/sundmus/musica-sacra-sugis-2025-08/
LOCATION:Pärnu Eliisabeti kirik\, Nikolai 22\, Pärnu\, Estonia
CATEGORIES:kontsert
ORGANIZER;CN="P%C3%A4rnu Ooper":MAILTO:ooper@parnu.ee
END:VEVENT
BEGIN:VEVENT
DTSTART;TZID=Europe/Tallinn:20251018T160000
DTEND;TZID=Europe/Tallinn:20251018T170000
DTSTAMP:20260420T094126
CREATED:20250707T101749Z
LAST-MODIFIED:20250820T155032Z
UID:1379-1760803200-1760806800@eliisabet.ee
SUMMARY:MUSICA SACRA. Sügis 2025. Lauri Väinmaa (klaver). Kavas Beethoven\, Pärt
DESCRIPTION:MUSICA SACRASügis 2025Põneva muusika kontserdisari\nL 18.10.2025 kell 16.00 Pärnu Eliisabeti kirik. Lauri Väinmaa (klaver). Kavas Beethoven\, Pärthttps://www.facebook.com/events/1272401017623218/\nMUSICA SACRA on kontserdisari\, mille eesmärk on kanda ette uudisloomingut\, anda interpreetidele võimalus teostada kunstiliselt eredaid kontserdikavu\, kaasata eestlastele lisaks kõrgel tasemel külalismuusikuid ning viia kontserdiprojekte Eestist välja. Kontserdid toimuvad laupäeviti kell neli Pärnu Eliisabeti kirikus ja kolmapäeviti kell seitse Tartu Jaani kirikus. Kontserdisarja korraldab Pärnu Ooper ja kava koostatakse Pärnu vikis. Sarja kunstiline juht on Andrus Kallastu. \nKoostöös: Eesti Kultuurkapital\, Pärnu linn\, EELK Pärnu Eliisabeti kogudus\, EELK Tartu Ülikooli-Jaani Kogudus\, Pärnu Ooper
URL:https://eliisabet.ee/sundmus/musica-sacra-sugis-2025-07/
LOCATION:Pärnu Eliisabeti kirik\, Nikolai 22\, Pärnu\, Estonia
CATEGORIES:kontsert
ORGANIZER;CN="P%C3%A4rnu Ooper":MAILTO:ooper@parnu.ee
END:VEVENT
BEGIN:VEVENT
DTSTART;TZID=Europe/Tallinn:20251011T160000
DTEND;TZID=Europe/Tallinn:20251011T170000
DTSTAMP:20260420T094126
CREATED:20250707T101201Z
LAST-MODIFIED:20250820T155050Z
UID:1376-1760198400-1760202000@eliisabet.ee
SUMMARY:MUSICA SACRA. Sügis 2025. Leena Laas (viiul)\, Nata-Ly Sakkos (klaver). Kavas Eller\, Kõrvits
DESCRIPTION:MUSICA SACRASügis 2025Põneva muusika kontserdisari\nL 11.10.2025 kell 16.00 Pärnu Eliisabeti kirik. Leena Laas (viiul)\, Nata-Ly Sakkos (klaver). Kavas Eller\, Kõrvitshttps://www.facebook.com/events/1477235663701261/\nMUSICA SACRA on kontserdisari\, mille eesmärk on kanda ette uudisloomingut\, anda interpreetidele võimalus teostada kunstiliselt eredaid kontserdikavu\, kaasata eestlastele lisaks kõrgel tasemel külalismuusikuid ning viia kontserdiprojekte Eestist välja. Kontserdid toimuvad laupäeviti kell neli Pärnu Eliisabeti kirikus ja kolmapäeviti kell seitse Tartu Jaani kirikus. Kontserdisarja korraldab Pärnu Ooper ja kava koostatakse Pärnu vikis. Sarja kunstiline juht on Andrus Kallastu. \nKoostöös: Eesti Kultuurkapital\, Pärnu linn\, EELK Pärnu Eliisabeti kogudus\, EELK Tartu Ülikooli-Jaani Kogudus\, Pärnu Ooper
URL:https://eliisabet.ee/sundmus/musica-sacra-sugis-2025-06/
LOCATION:Pärnu Eliisabeti kirik\, Nikolai 22\, Pärnu\, Estonia
CATEGORIES:kontsert
ORGANIZER;CN="P%C3%A4rnu Ooper":MAILTO:ooper@parnu.ee
END:VEVENT
BEGIN:VEVENT
DTSTART;TZID=Europe/Tallinn:20251004T160000
DTEND;TZID=Europe/Tallinn:20251004T170000
DTSTAMP:20260420T094126
CREATED:20250707T100705Z
LAST-MODIFIED:20250820T155105Z
UID:1374-1759593600-1759597200@eliisabet.ee
SUMMARY:MUSICA SACRA. Sügis 2025. Ines Maidre (orel). Kavas Bach\, Pärt
DESCRIPTION:MUSICA SACRASügis 2025Põneva muusika kontserdisari\nL 4.10.2025 kell 16.00 Pärnu Eliisabeti kirik. Ines Maidre (orel). Kavas Bach\, Pärthttps://www.facebook.com/events/1474490553706605/\nMUSICA SACRA on kontserdisari\, mille eesmärk on kanda ette uudisloomingut\, anda interpreetidele võimalus teostada kunstiliselt eredaid kontserdikavu\, kaasata eestlastele lisaks kõrgel tasemel külalismuusikuid ning viia kontserdiprojekte Eestist välja. Kontserdid toimuvad laupäeviti kell neli Pärnu Eliisabeti kirikus ja kolmapäeviti kell seitse Tartu Jaani kirikus. Kontserdisarja korraldab Pärnu Ooper ja kava koostatakse Pärnu vikis. Sarja kunstiline juht on Andrus Kallastu. \nKoostöös: Eesti Kultuurkapital\, Pärnu linn\, EELK Pärnu Eliisabeti kogudus\, EELK Tartu Ülikooli-Jaani Kogudus\, Pärnu Ooper
URL:https://eliisabet.ee/sundmus/musica-sacra-sugis-2025-05/
LOCATION:Pärnu Eliisabeti kirik\, Nikolai 22\, Pärnu\, Estonia
CATEGORIES:kontsert
ORGANIZER;CN="P%C3%A4rnu Ooper":MAILTO:ooper@parnu.ee
END:VEVENT
BEGIN:VEVENT
DTSTART;TZID=Europe/Tallinn:20250927T160000
DTEND;TZID=Europe/Tallinn:20250927T170000
DTSTAMP:20260420T094126
CREATED:20250707T100601Z
LAST-MODIFIED:20250820T155143Z
UID:1372-1758988800-1758992400@eliisabet.ee
SUMMARY:MUSICA SACRA. Sügis 2025. Jorma Toots (klaver). Kavas Schubert
DESCRIPTION:MUSICA SACRASügis 2025Põneva muusika kontserdisari\nL 27.9.2025 kell 16.00 Pärnu Eliisabeti kirik. Jorma Toots (klaver). Kavas Schuberthttps://www.facebook.com/events/1410695216703706/\nMUSICA SACRA on kontserdisari\, mille eesmärk on kanda ette uudisloomingut\, anda interpreetidele võimalus teostada kunstiliselt eredaid kontserdikavu\, kaasata eestlastele lisaks kõrgel tasemel külalismuusikuid ning viia kontserdiprojekte Eestist välja. Kontserdid toimuvad laupäeviti kell neli Pärnu Eliisabeti kirikus ja kolmapäeviti kell seitse Tartu Jaani kirikus. Kontserdisarja korraldab Pärnu Ooper ja kava koostatakse Pärnu vikis. Sarja kunstiline juht on Andrus Kallastu. \nKoostöös: Eesti Kultuurkapital\, Pärnu linn\, EELK Pärnu Eliisabeti kogudus\, EELK Tartu Ülikooli-Jaani Kogudus\, Pärnu Ooper
URL:https://eliisabet.ee/sundmus/musica-sacra-sugis-2025-04/
LOCATION:Pärnu Eliisabeti kirik\, Nikolai 22\, Pärnu\, Estonia
CATEGORIES:kontsert
ORGANIZER;CN="P%C3%A4rnu Ooper":MAILTO:ooper@parnu.ee
END:VEVENT
BEGIN:VEVENT
DTSTART;TZID=Europe/Tallinn:20250920T160000
DTEND;TZID=Europe/Tallinn:20250920T170000
DTSTAMP:20260420T094126
CREATED:20250707T100336Z
LAST-MODIFIED:20250820T155159Z
UID:1369-1758384000-1758387600@eliisabet.ee
SUMMARY:MUSICA SACRA. Sügis 2025. Kirill Lissijenko (klaver). Kavas Chopin
DESCRIPTION:MUSICA SACRASügis 2025Põneva muusika kontserdisari\nL 20.9.2025 kell 16.00 Pärnu Eliisabeti kirik. Kirill Lissijenko (klaver). Kavas Chopinhttps://www.facebook.com/events/2085729338622479/\nMUSICA SACRA on kontserdisari\, mille eesmärk on kanda ette uudisloomingut\, anda interpreetidele võimalus teostada kunstiliselt eredaid kontserdikavu\, kaasata eestlastele lisaks kõrgel tasemel külalismuusikuid ning viia kontserdiprojekte Eestist välja. Kontserdid toimuvad laupäeviti kell neli Pärnu Eliisabeti kirikus ja kolmapäeviti kell seitse Tartu Jaani kirikus. Kontserdisarja korraldab Pärnu Ooper ja kava koostatakse Pärnu vikis. Sarja kunstiline juht on Andrus Kallastu. \nKoostöös: Eesti Kultuurkapital\, Pärnu linn\, EELK Pärnu Eliisabeti kogudus\, EELK Tartu Ülikooli-Jaani Kogudus\, Pärnu Ooper
URL:https://eliisabet.ee/sundmus/musica-sacra-sugis-2025-03/
LOCATION:Pärnu Eliisabeti kirik\, Nikolai 22\, Pärnu\, Estonia
CATEGORIES:kontsert
ORGANIZER;CN="P%C3%A4rnu Ooper":MAILTO:ooper@parnu.ee
END:VEVENT
BEGIN:VEVENT
DTSTART;TZID=Europe/Tallinn:20250913T160000
DTEND;TZID=Europe/Tallinn:20250913T170000
DTSTAMP:20260420T094126
CREATED:20250707T100057Z
LAST-MODIFIED:20250820T155221Z
UID:1367-1757779200-1757782800@eliisabet.ee
SUMMARY:MUSICA SACRA. Sügis 2025. Kai Kallastu (sopran)\, Andrus Kallastu (klaver). Kavas Kallastu\, Saariaho\, Strauss
DESCRIPTION:MUSICA SACRASügis 2025Põneva muusika kontserdisari\nL 13.9.2025 kell 16.00 Pärnu Eliisabeti kirik. Kai Kallastu (sopran)\, Andrus Kallastu (klaver). Kavas Kallastu\, Saariaho\, Strausshttps://www.facebook.com/events/619288047885682/\nMUSICA SACRA on kontserdisari\, mille eesmärk on kanda ette uudisloomingut\, anda interpreetidele võimalus teostada kunstiliselt eredaid kontserdikavu\, kaasata eestlastele lisaks kõrgel tasemel külalismuusikuid ning viia kontserdiprojekte Eestist välja. Kontserdid toimuvad laupäeviti kell neli Pärnu Eliisabeti kirikus ja kolmapäeviti kell seitse Tartu Jaani kirikus. Kontserdisarja korraldab Pärnu Ooper ja kava koostatakse Pärnu vikis. Sarja kunstiline juht on Andrus Kallastu. \n\n\nKoostöös: Eesti Kultuurkapital\, Pärnu linn\, EELK Pärnu Eliisabeti kogudus\, EELK Tartu Ülikooli-Jaani Kogudus\, Pärnu Ooper
URL:https://eliisabet.ee/sundmus/musica-sacra-sugis-2025-02/
LOCATION:Pärnu Eliisabeti kirik\, Nikolai 22\, Pärnu\, Estonia
CATEGORIES:kontsert
ORGANIZER;CN="P%C3%A4rnu Ooper":MAILTO:ooper@parnu.ee
END:VEVENT
BEGIN:VEVENT
DTSTART;TZID=Europe/Tallinn:20250906T160000
DTEND;TZID=Europe/Tallinn:20250906T170000
DTSTAMP:20260420T094126
CREATED:20250707T095819Z
LAST-MODIFIED:20250820T155243Z
UID:1364-1757174400-1757178000@eliisabet.ee
SUMMARY:MUSICA SACRA. Sügis 2025. Eriko Takahashi (klaver). Kavas eesti\, soome ja jaapani muusika
DESCRIPTION:MUSICA SACRASügis 2025Põneva muusika kontserdisari\nL 6.9.2025 kell 16.00 Pärnu Eliisabeti kirik. Eriko Takahashi (klaver). Kavas eesti\, soome ja jaapani muusikahttps://www.facebook.com/events/730678599969968/\nMUSICA SACRA on kontserdisari\, mille eesmärk on kanda ette uudisloomingut\, anda interpreetidele võimalus teostada kunstiliselt eredaid kontserdikavu\, kaasata eestlastele lisaks kõrgel tasemel külalismuusikuid ning viia kontserdiprojekte Eestist välja. Kontserdid toimuvad laupäeviti kell neli Pärnu Eliisabeti kirikus ja kolmapäeviti kell seitse Tartu Jaani kirikus. Kontserdisarja korraldab Pärnu Ooper ja kava koostatakse Pärnu vikis. Sarja kunstiline juht on Andrus Kallastu. \nKoostöös: Eesti Kultuurkapital\, Pärnu linn\, EELK Pärnu Eliisabeti kogudus\, EELK Tartu Ülikooli-Jaani Kogudus\, Pärnu Ooper \n 
URL:https://eliisabet.ee/sundmus/musica-sacra-sugis-2025-01/
LOCATION:Pärnu Eliisabeti kirik\, Nikolai 22\, Pärnu\, Estonia
CATEGORIES:kontsert
ORGANIZER;CN="P%C3%A4rnu Ooper":MAILTO:ooper@parnu.ee
END:VEVENT
END:VCALENDAR