BEGIN:VCALENDAR
VERSION:2.0
PRODID:-//P&auml;rnu Eliisabeti kogudus - ECPv6.15.20//NONSGML v1.0//EN
CALSCALE:GREGORIAN
METHOD:PUBLISH
X-WR-CALNAME:P&auml;rnu Eliisabeti kogudus
X-ORIGINAL-URL:https://eliisabet.ee
X-WR-CALDESC:Events for P&auml;rnu Eliisabeti kogudus
REFRESH-INTERVAL;VALUE=DURATION:PT1H
X-Robots-Tag:noindex
X-PUBLISHED-TTL:PT1H
BEGIN:VTIMEZONE
TZID:Europe/Tallinn
BEGIN:DAYLIGHT
TZOFFSETFROM:+0200
TZOFFSETTO:+0300
TZNAME:EEST
DTSTART:20240331T010000
END:DAYLIGHT
BEGIN:STANDARD
TZOFFSETFROM:+0300
TZOFFSETTO:+0200
TZNAME:EET
DTSTART:20241027T010000
END:STANDARD
BEGIN:DAYLIGHT
TZOFFSETFROM:+0200
TZOFFSETTO:+0300
TZNAME:EEST
DTSTART:20250330T010000
END:DAYLIGHT
BEGIN:STANDARD
TZOFFSETFROM:+0300
TZOFFSETTO:+0200
TZNAME:EET
DTSTART:20251026T010000
END:STANDARD
BEGIN:DAYLIGHT
TZOFFSETFROM:+0200
TZOFFSETTO:+0300
TZNAME:EEST
DTSTART:20260329T010000
END:DAYLIGHT
BEGIN:STANDARD
TZOFFSETFROM:+0300
TZOFFSETTO:+0200
TZNAME:EET
DTSTART:20261025T010000
END:STANDARD
END:VTIMEZONE
BEGIN:VEVENT
DTSTART;TZID=Europe/Tallinn:20250606T200000
DTEND;TZID=Europe/Tallinn:20250606T210000
DTSTAMP:20260424T120257
CREATED:20250523T075027Z
LAST-MODIFIED:20250523T075027Z
UID:953-1749240000-1749243600@eliisabet.ee
SUMMARY:Orelifestival: BACH'ORAMA ​Galakontsert 7 organistiga
DESCRIPTION:BACH’ORAMA\n​Gala kontsert 7 organistiga\nFestivali avakontserdi põneva raamteosena kõlab Naji Hakimi rapsoodiline teos Bach’orama\, milles põimuvad teemad  J.S.Bachi tuntud orelioopustest\, mis samal kontserdil kõlavad.\n​Kersti Petermann\nHille Poroson\nAaro Tetsmann\nInes Maidre\nKristel Aer\nKadri Ploompuu\nTiia Tenno \nhttps://paernuorganfestival.weebly.com/juuni-kava.html
URL:https://eliisabet.ee/sundmus/orelifestival-bachorama-galakontsert-7-organistiga/
LOCATION:Pärnu Eliisabeti kirik\, Nikolai 22\, Pärnu\, Estonia
CATEGORIES:kontsert
END:VEVENT
END:VCALENDAR