BEGIN:VCALENDAR
VERSION:2.0
PRODID:-//P&auml;rnu Eliisabeti kogudus - ECPv6.15.20//NONSGML v1.0//EN
CALSCALE:GREGORIAN
METHOD:PUBLISH
X-WR-CALNAME:P&auml;rnu Eliisabeti kogudus
X-ORIGINAL-URL:https://eliisabet.ee
X-WR-CALDESC:Events for P&auml;rnu Eliisabeti kogudus
REFRESH-INTERVAL;VALUE=DURATION:PT1H
X-Robots-Tag:noindex
X-PUBLISHED-TTL:PT1H
BEGIN:VTIMEZONE
TZID:Europe/Tallinn
BEGIN:DAYLIGHT
TZOFFSETFROM:+0200
TZOFFSETTO:+0300
TZNAME:EEST
DTSTART:20240331T010000
END:DAYLIGHT
BEGIN:STANDARD
TZOFFSETFROM:+0300
TZOFFSETTO:+0200
TZNAME:EET
DTSTART:20241027T010000
END:STANDARD
BEGIN:DAYLIGHT
TZOFFSETFROM:+0200
TZOFFSETTO:+0300
TZNAME:EEST
DTSTART:20250330T010000
END:DAYLIGHT
BEGIN:STANDARD
TZOFFSETFROM:+0300
TZOFFSETTO:+0200
TZNAME:EET
DTSTART:20251026T010000
END:STANDARD
BEGIN:DAYLIGHT
TZOFFSETFROM:+0200
TZOFFSETTO:+0300
TZNAME:EEST
DTSTART:20260329T010000
END:DAYLIGHT
BEGIN:STANDARD
TZOFFSETFROM:+0300
TZOFFSETTO:+0200
TZNAME:EET
DTSTART:20261025T010000
END:STANDARD
BEGIN:DAYLIGHT
TZOFFSETFROM:+0200
TZOFFSETTO:+0300
TZNAME:EEST
DTSTART:20270328T010000
END:DAYLIGHT
BEGIN:STANDARD
TZOFFSETFROM:+0300
TZOFFSETTO:+0200
TZNAME:EET
DTSTART:20271031T010000
END:STANDARD
END:VTIMEZONE
BEGIN:VEVENT
DTSTART;TZID=Europe/Tallinn:20260711T200000
DTEND;TZID=Europe/Tallinn:20260711T210000
DTSTAMP:20260420T130417
CREATED:20250707T134949Z
LAST-MODIFIED:20260228T014030Z
UID:1481-1783800000-1783803600@eliisabet.ee
SUMMARY:SUVEAARIA 2026. FILMIMUUSIKA. Kai Kallastu (sopran)\, Andrus Kallastu (orel)
DESCRIPTION:SUVEAARIA 2026. Kunstide süntees\n10.7.-10.8.2026 \nL 11.7.2026 kell 20. Pärnu Eliisabeti kirik. FILMIMUUSIKA. Kai Kallastu (sopran)\, Andrus Kallastu (orel). Kavas Barbieri\, Legrand\, Morricone\, Piazzolla\, Rota\nhttps://www.facebook.com/events/902075375775172/ \nKontserdi kestus ca 1 tund. Hilinejaid kontserdile ei lubata. Pildistamine ja filmimine ei ole lubatud. \nPilet 30 eurot müügil pool tundi enne kontserdi algust kohapeal.\nPilet 20 eurot eelmüügis Piletilevis https://www.piletilevi.ee \nSUVEAARIA 2026 esimesel perioodil keskendutakse laiemalt vokaalkunstile. Eesmärk on tuua kuulajateni eri ajastute eredat ja inspireerivat vokaalmuusikat. Teine periood toimub Pärnu loovisikute valdkondadevahelises koostöös ja on pühendatud kunstide süsteesile\, milles laulmisel on ootamatus sõnalises\, visuaalses ja elektroonilises kontekstis keskne roll. Festivali kunstiline juht on helilooja ja dirigent Andrus Kallastu. \nSUVEAARIA 2026 festivali kava Facebookis \nKoostöös: Eesti Kultuurkapital\, Pärnu linn\, Pärnu Eliisabeti kogudus\, Pärnu Loomeliit\, Pärnu Ooper \nPärnu Ooper\nhttp://ooper.parnu.ee/
URL:https://eliisabet.ee/sundmus/suveaaria-2026-kunstide-suntees-1/
LOCATION:Pärnu Eliisabeti kirik\, Nikolai 22\, Pärnu\, Estonia
CATEGORIES:kontsert
ORGANIZER;CN="P%C3%A4rnu Ooper":MAILTO:ooper@parnu.ee
END:VEVENT
BEGIN:VEVENT
DTSTART;TZID=Europe/Tallinn:20250809T200000
DTEND;TZID=Europe/Tallinn:20250809T210000
DTSTAMP:20260420T130417
CREATED:20250707T094859Z
LAST-MODIFIED:20250707T094859Z
UID:1362-1754769600-1754773200@eliisabet.ee
SUMMARY:SUVEAARIA 2025. Kunstide süntees. Valdkondadevahelise muusikalise kompositsiooni töötoa lõppkontsert
DESCRIPTION:SUVEAARIA 2025. Kunstide süntees10.7.-10.8.2025\n@RAAMID 6\nL 9.8.2025 kell 20. Pärnu Eliisabeti kirik. Valdkondadevahelise muusikalise kompositsiooni töötoa lõppkontsert. COMP 2025 Ensemblehttps://www.facebook.com/events/1515621299396720/
URL:https://eliisabet.ee/sundmus/suveaaria-2025-kunstide-suntees-9/
LOCATION:Pärnu Eliisabeti kirik\, Nikolai 22\, Pärnu\, Estonia
CATEGORIES:kontsert
ORGANIZER;CN="P%C3%A4rnu Ooper":MAILTO:ooper@parnu.ee
END:VEVENT
BEGIN:VEVENT
DTSTART;TZID=Europe/Tallinn:20250806T200000
DTEND;TZID=Europe/Tallinn:20250806T210000
DTSTAMP:20260420T130417
CREATED:20250707T094626Z
LAST-MODIFIED:20250707T094626Z
UID:1360-1754510400-1754514000@eliisabet.ee
SUMMARY:SUVEAARIA 2025. Kunstide süntees. Kai Kallastu (sopran)\, Aare Tammesalu (tšello)\, Andrus Kallastu (elektroonika)
DESCRIPTION:SUVEAARIA 2025. Kunstide süntees10.7.-10.8.2025\n@RAAMID 6\nK 6.8.2025 kell 20. Pärnu Eliisabeti kirik. Kai Kallastu (sopran)\, Aare Tammesalu (tšello)\, Andrus Kallastu (elektroonika). Kavas Kallastu\, Kozlova-Johannes\, Sydorenko\, Tally\, Tavenerhttps://www.facebook.com/events/615183138207680/
URL:https://eliisabet.ee/sundmus/suveaaria-2025-kunstide-suntees-8/
LOCATION:Pärnu Eliisabeti kirik\, Nikolai 22\, Pärnu\, Estonia
CATEGORIES:kontsert
ORGANIZER;CN="P%C3%A4rnu Ooper":MAILTO:ooper@parnu.ee
END:VEVENT
BEGIN:VEVENT
DTSTART;TZID=Europe/Tallinn:20250802T200000
DTEND;TZID=Europe/Tallinn:20250802T210000
DTSTAMP:20260420T130417
CREATED:20250707T094223Z
LAST-MODIFIED:20250707T094343Z
UID:1358-1754164800-1754168400@eliisabet.ee
SUMMARY:SUVEAARIA 2025. Kunstide süntees. Kai Kallastu (sopran)\, Aare Tammesalu (tšello)\, Andrus Kallastu (klaver)
DESCRIPTION:SUVEAARIA 2025. Kunstide süntees10.7.-10.8.2025\n@RAAMID 6\nL 2.8.2025 kell 20. Pärnu Eliisabeti kirik. Kai Kallastu (sopran)\, Aare Tammesalu (tšello)\, Andrus Kallastu (klaver). Kavas Bansal\, Kallastu\, Saariaho\, Veerooshttps://www.facebook.com/events/2124389057998516/
URL:https://eliisabet.ee/sundmus/suveaaria-2025-kunstide-suntees-7/
LOCATION:Pärnu Eliisabeti kirik\, Nikolai 22\, Pärnu\, Estonia
CATEGORIES:kontsert
ORGANIZER;CN="P%C3%A4rnu Ooper":MAILTO:ooper@parnu.ee
END:VEVENT
BEGIN:VEVENT
DTSTART;TZID=Europe/Tallinn:20250730T200000
DTEND;TZID=Europe/Tallinn:20250730T210000
DTSTAMP:20260420T130417
CREATED:20250707T093933Z
LAST-MODIFIED:20250707T093933Z
UID:1356-1753905600-1753909200@eliisabet.ee
SUMMARY:SUVEAARIA 2025. Kunstide süntees. Katrin Lehismets (sopran\, Austria)\, Francesca Cardone (klaver\, Itaalia-Austria)
DESCRIPTION:SUVEAARIA 2025. Kunstide süntees10.7.-10.8.2025\nK 30.7.2025 kell 20. Pärnu Eliisabeti kirik. Katrin Lehismets (sopran\, Austria)\, Francesca Cardone (klaver\, Itaalia-Austria). Kavas Mahler\, Mägi\, Respighi\, Viardothttps://www.facebook.com/events/2103511123446658/
URL:https://eliisabet.ee/sundmus/suveaaria-2025-kunstide-suntees-6/
LOCATION:Pärnu Eliisabeti kirik\, Nikolai 22\, Pärnu\, Estonia
CATEGORIES:kontsert
ORGANIZER;CN="P%C3%A4rnu Ooper":MAILTO:ooper@parnu.ee
END:VEVENT
BEGIN:VEVENT
DTSTART;TZID=Europe/Tallinn:20250726T200000
DTEND;TZID=Europe/Tallinn:20250726T210000
DTSTAMP:20260420T130417
CREATED:20250707T093654Z
LAST-MODIFIED:20250707T093654Z
UID:1353-1753560000-1753563600@eliisabet.ee
SUMMARY:SUVEAARIA 2025. Kunstide süntees. Aita Kaaver (sopran)\, Kai Kallastu (sopran)\, Andrus Kallastu (klaver)
DESCRIPTION:SUVEAARIA 2025. Kunstide süntees10.7.-10.8.2025\nL 26.7.2025 kell 20. Pärnu Eliisabeti kirik. Aita Kaaver (sopran)\, Kai Kallastu (sopran)\, Andrus Kallastu (klaver). Kavas suveaariad ja -duetidhttps://www.facebook.com/events/992093619792737/
URL:https://eliisabet.ee/sundmus/suveaaria-2025-kunstide-suntees-5/
LOCATION:Pärnu Eliisabeti kirik\, Nikolai 22\, Pärnu\, Estonia
CATEGORIES:kontsert
ORGANIZER;CN="P%C3%A4rnu Ooper":MAILTO:ooper@parnu.ee
END:VEVENT
BEGIN:VEVENT
DTSTART;TZID=Europe/Tallinn:20250723T200000
DTEND;TZID=Europe/Tallinn:20250723T210000
DTSTAMP:20260420T130417
CREATED:20250707T093120Z
LAST-MODIFIED:20250707T093337Z
UID:1349-1753300800-1753304400@eliisabet.ee
SUMMARY:SUVEAARIA 2025. Kunstide süntees. Inna Lisniak (vokaal\, banduura\, kobza\, Ukraina)
DESCRIPTION:SUVEAARIA 2025. Kunstide süntees10.7.-10.8.2025\nK 23.7.2025 kell 20. Pärnu Eliisabeti kirik. Inna Lisniak (vokaal\, banduura\, kobza\, Ukraina). Fookuses kobzahttps://www.facebook.com/events/546559238496973/
URL:https://eliisabet.ee/sundmus/suveaaria-2025-kunstide-suntees-4/
LOCATION:Pärnu Eliisabeti kirik\, Nikolai 22\, Pärnu\, Estonia
CATEGORIES:kontsert
ORGANIZER;CN="P%C3%A4rnu Ooper":MAILTO:ooper@parnu.ee
END:VEVENT
BEGIN:VEVENT
DTSTART;TZID=Europe/Tallinn:20250719T200000
DTEND;TZID=Europe/Tallinn:20250719T210000
DTSTAMP:20260420T130417
CREATED:20250707T092630Z
LAST-MODIFIED:20250707T092757Z
UID:1345-1752955200-1752958800@eliisabet.ee
SUMMARY:SUVEAARIA 2025. Kunstide süntees. Kai Kallastu (sopran)\, Andrus Kallastu (klaver)
DESCRIPTION:SUVEAARIA 2025. Kunstide süntees10.7.-10.8.2025\nL 19.7.2025 kell 20. Pärnu Eliisabeti kirik. Kai Kallastu (sopran)\, Andrus Kallastu (klaver). Kavas varabarokk ja tangohttps://www.facebook.com/events/709927884793615/
URL:https://eliisabet.ee/sundmus/suveaaria-2025-kunstide-suntees-3/
LOCATION:Pärnu Eliisabeti kirik\, Nikolai 22\, Pärnu\, Estonia
CATEGORIES:kontsert
ORGANIZER;CN="P%C3%A4rnu Ooper":MAILTO:ooper@parnu.ee
END:VEVENT
BEGIN:VEVENT
DTSTART;TZID=Europe/Tallinn:20250716T200000
DTEND;TZID=Europe/Tallinn:20250716T210000
DTSTAMP:20260420T130417
CREATED:20250707T092016Z
LAST-MODIFIED:20250707T092134Z
UID:1334-1752696000-1752699600@eliisabet.ee
SUMMARY:SUVEAARIA 2025. Kunstide süntees. Kai Kallastu (sopran)\, Jorma Toots (klaver)\, Andrus Kallastu (orel)
DESCRIPTION:SUVEAARIA 2025. Kunstide süntees10.7.-10.8.2025\n\nK 16.7.2025 kell 20. Pärnu Eliisabeti kirik. Kai Kallastu (sopran)\, Jorma Toots (klaver)\, Andrus Kallastu (orel). Kavas Philip Glass Songs from Liquid Dayshttps://www.facebook.com/events/1205937404511558/
URL:https://eliisabet.ee/sundmus/suveaaria-2025-kunstide-suntees-2/
LOCATION:Pärnu Eliisabeti kirik\, Nikolai 22\, Pärnu\, Estonia
CATEGORIES:kontsert
END:VEVENT
BEGIN:VEVENT
DTSTART;TZID=Europe/Tallinn:20250712T200000
DTEND;TZID=Europe/Tallinn:20250712T210000
DTSTAMP:20260420T130417
CREATED:20250707T090646Z
LAST-MODIFIED:20250707T092329Z
UID:1325-1752350400-1752354000@eliisabet.ee
SUMMARY:SUVEAARIA 2025. Kunstide süntees. Kai Kallastu (sopran)\, Ingmar Simson-Valtin (viiul)\, Andrus Kallastu (elektroonika)
DESCRIPTION:SUVEAARIA 2025. Kunstide süntees10.7.-10.8.2025 \nL 12.7.2025 kell 20. Pärnu Eliisabeti kirik. Kai Kallastu (sopran)\, Ingmar Simson-Valtin (viiul)\, Andrus Kallastu (elektroonika). Kavas Bansal\, Erikson\, Holst\, Kallastu\, Saariahohttps://www.facebook.com/events/1585518632123448/
URL:https://eliisabet.ee/sundmus/suveaaria-2025-kunstide-suntees-1/
LOCATION:Pärnu Eliisabeti kirik\, Nikolai 22\, Pärnu\, Estonia
CATEGORIES:kontsert
ORGANIZER;CN="P%C3%A4rnu Ooper":MAILTO:ooper@parnu.ee
END:VEVENT
END:VCALENDAR