BEGIN:VCALENDAR
VERSION:2.0
PRODID:-//P&auml;rnu Eliisabeti kogudus - ECPv6.15.20//NONSGML v1.0//EN
CALSCALE:GREGORIAN
METHOD:PUBLISH
X-WR-CALNAME:P&auml;rnu Eliisabeti kogudus
X-ORIGINAL-URL:https://eliisabet.ee
X-WR-CALDESC:Events for P&auml;rnu Eliisabeti kogudus
REFRESH-INTERVAL;VALUE=DURATION:PT1H
X-Robots-Tag:noindex
X-PUBLISHED-TTL:PT1H
BEGIN:VTIMEZONE
TZID:Europe/Tallinn
BEGIN:DAYLIGHT
TZOFFSETFROM:+0200
TZOFFSETTO:+0300
TZNAME:EEST
DTSTART:20260329T010000
END:DAYLIGHT
BEGIN:STANDARD
TZOFFSETFROM:+0300
TZOFFSETTO:+0200
TZNAME:EET
DTSTART:20261025T010000
END:STANDARD
BEGIN:DAYLIGHT
TZOFFSETFROM:+0200
TZOFFSETTO:+0300
TZNAME:EEST
DTSTART:20270328T010000
END:DAYLIGHT
BEGIN:STANDARD
TZOFFSETFROM:+0300
TZOFFSETTO:+0200
TZNAME:EET
DTSTART:20271031T010000
END:STANDARD
BEGIN:DAYLIGHT
TZOFFSETFROM:+0200
TZOFFSETTO:+0300
TZNAME:EEST
DTSTART:20280326T010000
END:DAYLIGHT
BEGIN:STANDARD
TZOFFSETFROM:+0300
TZOFFSETTO:+0200
TZNAME:EET
DTSTART:20281029T010000
END:STANDARD
END:VTIMEZONE
BEGIN:VEVENT
DTSTART;TZID=Europe/Tallinn:20270721T200000
DTEND;TZID=Europe/Tallinn:20270721T210000
DTSTAMP:20260420T072952
CREATED:20250707T142250Z
LAST-MODIFIED:20250707T142730Z
UID:1505-1816200000-1816203600@eliisabet.ee
SUMMARY:SUVEAARIA 2027. Kunstide süntees
DESCRIPTION:SUVEAARIA 2027. Kunstide süntees\n10.7.-10.8.2027 \nVOKAALMUUSIKA KONTSERDID \n@RAAMID 7 \nSUVEAARIA 2027 esimesel perioodil keskendutakse lauljatele ja laiemalt vokaalkunstile. Eesmärk on tuua kuulajateni eri ajastute eredat ja inspireerivat vokaalmuusikat. Teine periood toimub Pärnu loovisikute valdkondadevahelises koostöös ja on pühendatud kunstide süsteesile\, milles laulmisel on ootamatus sõnalises\, visuaalses ja elektroonilises kontekstis keskne roll. Festivali kunstiline juht on helilooja ja dirigent Andrus Kallastu.
URL:https://eliisabet.ee/sundmus/suveaaria-2027-kunstide-suntees-4/
LOCATION:Pärnu Eliisabeti kirik\, Nikolai 22\, Pärnu\, Estonia
CATEGORIES:kontsert
ORGANIZER;CN="P%C3%A4rnu Ooper":MAILTO:ooper@parnu.ee
END:VEVENT
BEGIN:VEVENT
DTSTART;TZID=Europe/Tallinn:20270724T200000
DTEND;TZID=Europe/Tallinn:20270724T210000
DTSTAMP:20260420T072952
CREATED:20250707T142547Z
LAST-MODIFIED:20250707T142617Z
UID:1507-1816459200-1816462800@eliisabet.ee
SUMMARY:SUVEAARIA 2027. Kunstide süntees
DESCRIPTION:SUVEAARIA 2027. Kunstide süntees\n10.7.-10.8.2027 \nVOKAALMUUSIKA KONTSERDID \n@RAAMID 7 \nSUVEAARIA 2027 esimesel perioodil keskendutakse lauljatele ja laiemalt vokaalkunstile. Eesmärk on tuua kuulajateni eri ajastute eredat ja inspireerivat vokaalmuusikat. Teine periood toimub Pärnu loovisikute valdkondadevahelises koostöös ja on pühendatud kunstide süsteesile\, milles laulmisel on ootamatus sõnalises\, visuaalses ja elektroonilises kontekstis keskne roll. Festivali kunstiline juht on helilooja ja dirigent Andrus Kallastu.
URL:https://eliisabet.ee/sundmus/suveaaria-2027-kunstide-suntees-5/
LOCATION:Pärnu Eliisabeti kirik\, Nikolai 22\, Pärnu\, Estonia
CATEGORIES:kontsert
ORGANIZER;CN="P%C3%A4rnu Ooper":MAILTO:ooper@parnu.ee
END:VEVENT
BEGIN:VEVENT
DTSTART;TZID=Europe/Tallinn:20270728T200000
DTEND;TZID=Europe/Tallinn:20270728T210000
DTSTAMP:20260420T072952
CREATED:20250707T142935Z
LAST-MODIFIED:20250707T142935Z
UID:1514-1816804800-1816808400@eliisabet.ee
SUMMARY:SUVEAARIA 2027. Kunstide süntees
DESCRIPTION:SUVEAARIA 2027. Kunstide süntees\n10.7.-10.8.2027 \nVOKAALMUUSIKA KONTSERDID \n@RAAMID 7 \nSUVEAARIA 2027 esimesel perioodil keskendutakse lauljatele ja laiemalt vokaalkunstile. Eesmärk on tuua kuulajateni eri ajastute eredat ja inspireerivat vokaalmuusikat. Teine periood toimub Pärnu loovisikute valdkondadevahelises koostöös ja on pühendatud kunstide süsteesile\, milles laulmisel on ootamatus sõnalises\, visuaalses ja elektroonilises kontekstis keskne roll. Festivali kunstiline juht on helilooja ja dirigent Andrus Kallastu.
URL:https://eliisabet.ee/sundmus/suveaaria-2027-kunstide-suntees-6/
LOCATION:Pärnu Eliisabeti kirik\, Nikolai 22\, Pärnu\, Estonia
CATEGORIES:kontsert
ORGANIZER;CN="P%C3%A4rnu Ooper":MAILTO:ooper@parnu.ee
END:VEVENT
BEGIN:VEVENT
DTSTART;TZID=Europe/Tallinn:20270731T200000
DTEND;TZID=Europe/Tallinn:20270731T210000
DTSTAMP:20260420T072952
CREATED:20250707T143155Z
LAST-MODIFIED:20250707T143155Z
UID:1516-1817064000-1817067600@eliisabet.ee
SUMMARY:SUVEAARIA 2027. Kunstide süntees
DESCRIPTION:SUVEAARIA 2027. Kunstide süntees\n10.7.-10.8.2027 \nVOKAALMUUSIKA KONTSERDID \n@RAAMID 7 \nSUVEAARIA 2027 esimesel perioodil keskendutakse lauljatele ja laiemalt vokaalkunstile. Eesmärk on tuua kuulajateni eri ajastute eredat ja inspireerivat vokaalmuusikat. Teine periood toimub Pärnu loovisikute valdkondadevahelises koostöös ja on pühendatud kunstide süsteesile\, milles laulmisel on ootamatus sõnalises\, visuaalses ja elektroonilises kontekstis keskne roll. Festivali kunstiline juht on helilooja ja dirigent Andrus Kallastu.
URL:https://eliisabet.ee/sundmus/suveaaria-2027-kunstide-suntees-7/
LOCATION:Pärnu Eliisabeti kirik\, Nikolai 22\, Pärnu\, Estonia
CATEGORIES:kontsert
ORGANIZER;CN="P%C3%A4rnu Ooper":MAILTO:ooper@parnu.ee
END:VEVENT
BEGIN:VEVENT
DTSTART;TZID=Europe/Tallinn:20270804T200000
DTEND;TZID=Europe/Tallinn:20270804T210000
DTSTAMP:20260420T072952
CREATED:20250707T143350Z
LAST-MODIFIED:20250707T143350Z
UID:1518-1817409600-1817413200@eliisabet.ee
SUMMARY:SUVEAARIA 2027. Kunstide süntees
DESCRIPTION:SUVEAARIA 2027. Kunstide süntees\n10.7.-10.8.2027 \nVOKAALMUUSIKA KONTSERDID \n@RAAMID 7 \nSUVEAARIA 2027 esimesel perioodil keskendutakse lauljatele ja laiemalt vokaalkunstile. Eesmärk on tuua kuulajateni eri ajastute eredat ja inspireerivat vokaalmuusikat. Teine periood toimub Pärnu loovisikute valdkondadevahelises koostöös ja on pühendatud kunstide süsteesile\, milles laulmisel on ootamatus sõnalises\, visuaalses ja elektroonilises kontekstis keskne roll. Festivali kunstiline juht on helilooja ja dirigent Andrus Kallastu.
URL:https://eliisabet.ee/sundmus/suveaaria-2027-kunstide-suntees-8/
LOCATION:Pärnu Eliisabeti kirik\, Nikolai 22\, Pärnu\, Estonia
CATEGORIES:kontsert
ORGANIZER;CN="P%C3%A4rnu Ooper":MAILTO:ooper@parnu.ee
END:VEVENT
BEGIN:VEVENT
DTSTART;TZID=Europe/Tallinn:20270807T200000
DTEND;TZID=Europe/Tallinn:20270807T210000
DTSTAMP:20260420T072952
CREATED:20250707T143916Z
LAST-MODIFIED:20250707T143916Z
UID:1520-1817668800-1817672400@eliisabet.ee
SUMMARY:SUVEAARIA 2027. Kunstide süntees
DESCRIPTION:SUVEAARIA 2027. Kunstide süntees\n10.7.-10.8.2027 \nVOKAALMUUSIKA KONTSERDID \n@RAAMID 7 \nSUVEAARIA 2027 esimesel perioodil keskendutakse lauljatele ja laiemalt vokaalkunstile. Eesmärk on tuua kuulajateni eri ajastute eredat ja inspireerivat vokaalmuusikat. Teine periood toimub Pärnu loovisikute valdkondadevahelises koostöös ja on pühendatud kunstide süsteesile\, milles laulmisel on ootamatus sõnalises\, visuaalses ja elektroonilises kontekstis keskne roll. Festivali kunstiline juht on helilooja ja dirigent Andrus Kallastu.
URL:https://eliisabet.ee/sundmus/suveaaria-2027-kunstide-suntees-9/
LOCATION:Pärnu Eliisabeti kirik\, Nikolai 22\, Pärnu\, Estonia
CATEGORIES:kontsert
ORGANIZER;CN="P%C3%A4rnu Ooper":MAILTO:ooper@parnu.ee
END:VEVENT
END:VCALENDAR