BEGIN:VCALENDAR
VERSION:2.0
PRODID:-//P&auml;rnu Eliisabeti kogudus - ECPv6.15.20//NONSGML v1.0//EN
CALSCALE:GREGORIAN
METHOD:PUBLISH
X-WR-CALNAME:P&auml;rnu Eliisabeti kogudus
X-ORIGINAL-URL:https://eliisabet.ee
X-WR-CALDESC:Events for P&auml;rnu Eliisabeti kogudus
REFRESH-INTERVAL;VALUE=DURATION:PT1H
X-Robots-Tag:noindex
X-PUBLISHED-TTL:PT1H
BEGIN:VTIMEZONE
TZID:Europe/Tallinn
BEGIN:DAYLIGHT
TZOFFSETFROM:+0200
TZOFFSETTO:+0300
TZNAME:EEST
DTSTART:20240331T010000
END:DAYLIGHT
BEGIN:STANDARD
TZOFFSETFROM:+0300
TZOFFSETTO:+0200
TZNAME:EET
DTSTART:20241027T010000
END:STANDARD
BEGIN:DAYLIGHT
TZOFFSETFROM:+0200
TZOFFSETTO:+0300
TZNAME:EEST
DTSTART:20250330T010000
END:DAYLIGHT
BEGIN:STANDARD
TZOFFSETFROM:+0300
TZOFFSETTO:+0200
TZNAME:EET
DTSTART:20251026T010000
END:STANDARD
BEGIN:DAYLIGHT
TZOFFSETFROM:+0200
TZOFFSETTO:+0300
TZNAME:EEST
DTSTART:20260329T010000
END:DAYLIGHT
BEGIN:STANDARD
TZOFFSETFROM:+0300
TZOFFSETTO:+0200
TZNAME:EET
DTSTART:20261025T010000
END:STANDARD
END:VTIMEZONE
BEGIN:VEVENT
DTSTART;TZID=Europe/Tallinn:20250830T000000
DTEND;TZID=Europe/Tallinn:20250831T235959
DTSTAMP:20260425T183055
CREATED:20250716T114625Z
LAST-MODIFIED:20250716T114625Z
UID:1561-1756512000-1756684799@eliisabet.ee
SUMMARY:Narva-Jõesuu kogudus tuleb külla
DESCRIPTION:2025. aastal on meie eestpalve partnerkoguduseks EELK Narva-Jõesuu kogudus. Lisaks üksteise eest palvetamisele on tore ka näost näkku kohtuda. 10. augustil külastame meie neid Narva-Jõesuus\, 30. ja 31. augustil tulevad nemad omakorda meile suvepealinna külla.
URL:https://eliisabet.ee/sundmus/narva-joesuu-kogudus-tuleb-kulla/
CATEGORIES:muud sündmused
END:VEVENT
BEGIN:VEVENT
DTSTART;TZID=Europe/Tallinn:20250830T180000
DTEND;TZID=Europe/Tallinn:20250830T200000
DTSTAMP:20260425T183055
CREATED:20250827T183020Z
LAST-MODIFIED:20250827T183020Z
UID:1675-1756576800-1756584000@eliisabet.ee
SUMMARY:Osadus- ja ajalooõhtu Narva-Jõesuu koguduse rahvaga
DESCRIPTION:
URL:https://eliisabet.ee/sundmus/osadus-ja-ajalooohtu-narva-joesuu-koguduse-rahvaga/
LOCATION:Eliisabeti kiriku leerisaal\, Nikolai 22\, Pärnu\, Estonia
CATEGORIES:muud sündmused
END:VEVENT
END:VCALENDAR